BEGIN:VCALENDAR
VERSION:2.0
PRODID:-//Hopewell North East - ECPv6.15.20//NONSGML v1.0//EN
CALSCALE:GREGORIAN
METHOD:PUBLISH
X-WR-CALNAME:Hopewell North East
X-ORIGINAL-URL:https://hopewellnortheast.org
X-WR-CALDESC:Events for Hopewell North East
REFRESH-INTERVAL;VALUE=DURATION:PT1H
X-Robots-Tag:noindex
X-PUBLISHED-TTL:PT1H
BEGIN:VTIMEZONE
TZID:UTC
BEGIN:STANDARD
TZOFFSETFROM:+0000
TZOFFSETTO:+0000
TZNAME:UTC
DTSTART:20240101T000000
END:STANDARD
END:VTIMEZONE
BEGIN:VEVENT
DTSTART;TZID=UTC:20250419T090000
DTEND;TZID=UTC:20250419T123000
DTSTAMP:20260419T181331
CREATED:20250415T110705Z
LAST-MODIFIED:20250415T110705Z
UID:24632-1745053200-1745065800@hopewellnortheast.org
SUMMARY:New Member Orientation
DESCRIPTION:If you have not taken or completed your new member classes\, please join us in person: \nWhere: Ministry House\, April 19\, 2025 \nTime: 9:00 a.m. until 12:30 p.m. \nPlease view the schedule below. If you have taken some classes and need to complete others\, join us during the classes missed. \nSaturday\, April 19\, 2025 (In Person) \nWe will open with prayer at 9:00 a.m. Classes will begin promptly at 9:15 a.m. \n9:00 a.m. – Welcome & Opening Prayer \n9:15 a.m. – Learning to Pray \n9:45 a.m. – Assurance of Salvation \n10:15 a.m. – A Victory / Spirit Filled Life \n10:45 a.m. – BREAK \n11:00 a.m. – Tithing & Stewardship \n11:30 a.m. – Church Discipline \n12:30 p.m. – Session Ends \n\nFor Linked In Classes the Zoom link will be emailed the week of the class. The following classes will be held from 7:00 p.m. – 8:30 p.m. on Thursdays via Zoom. \nFrom Membership: I am a Church Member\nThursday\, April 24\, 2025\, 7:00 p.m. – 8:30 p.m.\, via zoom \nTo Discipleship: Summary of D1-D4 curriculum\nThursday\, May 1\, 2025\, 7:00 p.m. – 8:30 p.m.\, via zoom \nStewardship: I Serve\nThursday\, May 8\, 2025\, 7:00 p.m. – 8:30 p.m.\, via zoom \nSpiritual Discipline\nThursday\, May 15\, 2025\, 7:00 p.m. – 8:30 p.m.\, via zoom
URL:https://hopewellnortheast.org/event/new-member-orientation/
LOCATION:Ministry House\, 320 Ozora Rd.\, Loganville\, 30052\, United States
END:VEVENT
END:VCALENDAR