BEGIN:VCALENDAR
VERSION:2.0
PRODID:-//Hopewell North East - ECPv6.15.20//NONSGML v1.0//EN
CALSCALE:GREGORIAN
METHOD:PUBLISH
X-ORIGINAL-URL:https://hopewellnortheast.org
X-WR-CALDESC:Events for Hopewell North East
REFRESH-INTERVAL;VALUE=DURATION:PT1H
X-Robots-Tag:noindex
X-PUBLISHED-TTL:PT1H
BEGIN:VTIMEZONE
TZID:UTC
BEGIN:STANDARD
TZOFFSETFROM:+0000
TZOFFSETTO:+0000
TZNAME:UTC
DTSTART:20240101T000000
END:STANDARD
END:VTIMEZONE
BEGIN:VEVENT
DTSTART;TZID=UTC:20250517T100000
DTEND;TZID=UTC:20250517T120000
DTSTAMP:20260419T195225
CREATED:20250507T172638Z
LAST-MODIFIED:20250510T034947Z
UID:24708-1747476000-1747483200@hopewellnortheast.org
SUMMARY:Masterlife Discipleship Graduation
DESCRIPTION:Please join us as we celebrate the 2025 Graduates of \nTHE MASTERLIFE DISCIPLESHIP COURSE \nSaturday\, May 17\, 2025 @ 10:00 AM \nHopewell North East Baptist Church \n2685 Camp Mitchell Rd\, Grayson GA 30017
URL:https://hopewellnortheast.org/event/masterlife-discipleship-graduation/
LOCATION:Hopewell North East\, 2685 Camp Mitchell Rd\, Grayson\, GA\, 30017\, United States
ATTACH;FMTTYPE=image/jpeg:https://hopewellnortheast.org/wp-content/uploads/2025/05/MasterLife-Graduation_2025.jpg
END:VEVENT
END:VCALENDAR