BEGIN:VCALENDAR
VERSION:2.0
PRODID:-//Hopewell North East - ECPv6.15.20//NONSGML v1.0//EN
CALSCALE:GREGORIAN
METHOD:PUBLISH
X-WR-CALNAME:Hopewell North East
X-ORIGINAL-URL:https://hopewellnortheast.org
X-WR-CALDESC:Events for Hopewell North East
REFRESH-INTERVAL;VALUE=DURATION:PT1H
X-Robots-Tag:noindex
X-PUBLISHED-TTL:PT1H
BEGIN:VTIMEZONE
TZID:America/New_York
BEGIN:DAYLIGHT
TZOFFSETFROM:-0500
TZOFFSETTO:-0400
TZNAME:EDT
DTSTART:20240310T070000
END:DAYLIGHT
BEGIN:STANDARD
TZOFFSETFROM:-0400
TZOFFSETTO:-0500
TZNAME:EST
DTSTART:20241103T060000
END:STANDARD
BEGIN:DAYLIGHT
TZOFFSETFROM:-0500
TZOFFSETTO:-0400
TZNAME:EDT
DTSTART:20250309T070000
END:DAYLIGHT
BEGIN:STANDARD
TZOFFSETFROM:-0400
TZOFFSETTO:-0500
TZNAME:EST
DTSTART:20251102T060000
END:STANDARD
BEGIN:DAYLIGHT
TZOFFSETFROM:-0500
TZOFFSETTO:-0400
TZNAME:EDT
DTSTART:20260308T070000
END:DAYLIGHT
BEGIN:STANDARD
TZOFFSETFROM:-0400
TZOFFSETTO:-0500
TZNAME:EST
DTSTART:20261101T060000
END:STANDARD
END:VTIMEZONE
BEGIN:VEVENT
DTSTART;TZID=America/New_York:20250727T081500
DTEND;TZID=America/New_York:20250727T095000
DTSTAMP:20260419T231910
CREATED:20250629T101619Z
LAST-MODIFIED:20250629T101619Z
UID:24825-1753604100-1753609800@hopewellnortheast.org
SUMMARY:GriefShare
DESCRIPTION:GriefShare is offered at Hopewell North East. \nGriefShare is a Christ-centered program that helps people apply biblical principles as they deal with the emotions and life stresses following the death of a loved one. \nClasses are held Sundays 8:15 am to 9:50 am. \nIf you would like to register for this class\, please send an email to info@hopewellnortheast.org \nto receive the registration link. \nThe cost of the program is $20 to cover your book. \nReminder \nPlease email us at \ninfo@hopewellnortheast.org \nto receive the link.
URL:https://hopewellnortheast.org/event/griefshare-20/
LOCATION:Hopewell North East\, 2685 Camp Mitchell Rd\, Grayson\, GA\, 30017\, United States
ATTACH;FMTTYPE=image/jpeg:https://hopewellnortheast.org/wp-content/uploads/2025/03/GriefShare.jpg
END:VEVENT
BEGIN:VEVENT
DTSTART;TZID=America/New_York:20250727T090000
DTEND;TZID=America/New_York:20250727T094500
DTSTAMP:20260419T231910
CREATED:20250629T102056Z
LAST-MODIFIED:20250629T102056Z
UID:24833-1753606800-1753609500@hopewellnortheast.org
SUMMARY:Sunday School (All Ages)
DESCRIPTION:Thank you for considering visiting our church!\n\n\n\n\n\n\n\n\n\n\n\n\nWe are excited to welcome you. Join us on Sundays for a memorable experience.
URL:https://hopewellnortheast.org/event/sunday-school-all-ages-21/
LOCATION:Hopewell North East\, 2685 Camp Mitchell Rd\, Grayson\, GA\, 30017\, United States
ATTACH;FMTTYPE=image/jpeg:https://hopewellnortheast.org/wp-content/uploads/2025/03/Sunday-School.jpg
END:VEVENT
BEGIN:VEVENT
DTSTART;TZID=America/New_York:20250727T100000
DTEND;TZID=America/New_York:20250727T113000
DTSTAMP:20260419T231910
CREATED:20250629T101159Z
LAST-MODIFIED:20250629T101159Z
UID:24817-1753610400-1753615800@hopewellnortheast.org
SUMMARY:Worship Service\, Nursery\, Youth Church
DESCRIPTION:Thank you for considering visiting our church!\n\n\n\n\n\n\n\n\n\n\n\n\nWe are excited to welcome you. Join us on Sundays for a memorable experience.
URL:https://hopewellnortheast.org/event/worship-service-nursery-youth-church-22/
LOCATION:Hopewell North East\, 2685 Camp Mitchell Rd\, Grayson\, GA\, 30017\, United States
ATTACH;FMTTYPE=image/jpeg:https://hopewellnortheast.org/wp-content/uploads/2025/03/Sunday-Service-scaled.jpg
END:VEVENT
BEGIN:VEVENT
DTSTART;TZID=America/New_York:20250727T180000
DTEND;TZID=America/New_York:20250727T200000
DTSTAMP:20260419T231910
CREATED:20250716T171631Z
LAST-MODIFIED:20250716T171749Z
UID:24910-1753639200-1753646400@hopewellnortheast.org
SUMMARY:Worship in the Water
DESCRIPTION:Join The Gathering of Daughters Women’s Ministry for \nWorship in the Water \nSunday\, July 27\, 2025 \n6:00 PM – 8:00 PM \nBethesda Park Aquatic Center \n225 Bethesda Church Rd\, Lawrenceville\, GA 30044 \nAdmission: $15 per person \nLadies ages 18+ \n+++++++++++++++++++++++++++++++++++++++ \nHow to Register: \n(To secure your spot\, please complete both of the following steps) \n✅ Step 1: Pay the Admission Fee \n\nClick the GIVEHUB link below\nDonation Amount: $15.00\nMemo:Your full name (or name of the person registering)\nSelect Fund: Worship in the Water\nSign in or continue as a guest\nComplete your payment method\n\n✅ Step 2: Complete the Registration Form \nSelect the link below. Make sure to submit it after payment. \nPlease note: Your registration is not complete until both the form and payment have been submitted. The admission fee is non-refundable. \nWe can’t wait to see you in the water! \n\n\n\n\n\n\n\n\n\n\n\n\n\n\n\n\n\n\n\n\n\n\n\n\n\n\nPay the Admission Fee\n\n\n\n\n\n\n\n\n\n\n\n\n\n\nComplete the Registration Form
URL:https://hopewellnortheast.org/event/worship-in-the-water/
ATTACH;FMTTYPE=image/jpeg:https://hopewellnortheast.org/wp-content/uploads/2025/07/Worship-In-The-Water.jpg
END:VEVENT
END:VCALENDAR