BEGIN:VCALENDAR
VERSION:2.0
PRODID:-//Hopewell North East - ECPv6.15.20//NONSGML v1.0//EN
CALSCALE:GREGORIAN
METHOD:PUBLISH
X-ORIGINAL-URL:https://hopewellnortheast.org
X-WR-CALDESC:Events for Hopewell North East
REFRESH-INTERVAL;VALUE=DURATION:PT1H
X-Robots-Tag:noindex
X-PUBLISHED-TTL:PT1H
BEGIN:VTIMEZONE
TZID:America/New_York
BEGIN:DAYLIGHT
TZOFFSETFROM:-0500
TZOFFSETTO:-0400
TZNAME:EDT
DTSTART:20240310T070000
END:DAYLIGHT
BEGIN:STANDARD
TZOFFSETFROM:-0400
TZOFFSETTO:-0500
TZNAME:EST
DTSTART:20241103T060000
END:STANDARD
BEGIN:DAYLIGHT
TZOFFSETFROM:-0500
TZOFFSETTO:-0400
TZNAME:EDT
DTSTART:20250309T070000
END:DAYLIGHT
BEGIN:STANDARD
TZOFFSETFROM:-0400
TZOFFSETTO:-0500
TZNAME:EST
DTSTART:20251102T060000
END:STANDARD
BEGIN:DAYLIGHT
TZOFFSETFROM:-0500
TZOFFSETTO:-0400
TZNAME:EDT
DTSTART:20260308T070000
END:DAYLIGHT
BEGIN:STANDARD
TZOFFSETFROM:-0400
TZOFFSETTO:-0500
TZNAME:EST
DTSTART:20261101T060000
END:STANDARD
END:VTIMEZONE
BEGIN:VEVENT
DTSTART;TZID=America/New_York:20250601T081500
DTEND;TZID=America/New_York:20250601T095000
DTSTAMP:20260419T215344
CREATED:20250529T002828Z
LAST-MODIFIED:20250529T002828Z
UID:24750-1748765700-1748771400@hopewellnortheast.org
SUMMARY:GriefShare
DESCRIPTION:GriefShare is offered at Hopewell North East. \nGriefShare is a Christ-centered program that helps people apply biblical principles as they deal with the emotions and life stresses following the death of a loved one. \nClasses are held Sundays 8:15 am to 9:50 am. \nIf you would like to register for this class\, please send an email to info@hopewellnortheast.org \nto receive the registration link. \nThe cost of the program is $20 to cover your book. \nReminder \nPlease email us at \ninfo@hopewellnortheast.org \nto receive the link.
URL:https://hopewellnortheast.org/event/griefshare-12/
LOCATION:Hopewell North East\, 2685 Camp Mitchell Rd\, Grayson\, GA\, 30017\, United States
ATTACH;FMTTYPE=image/jpeg:https://hopewellnortheast.org/wp-content/uploads/2025/03/GriefShare.jpg
END:VEVENT
BEGIN:VEVENT
DTSTART;TZID=America/New_York:20250601T090000
DTEND;TZID=America/New_York:20250601T094500
DTSTAMP:20260419T215344
CREATED:20250529T002506Z
LAST-MODIFIED:20250529T002506Z
UID:24748-1748768400-1748771100@hopewellnortheast.org
SUMMARY:Sunday School (All Ages)
DESCRIPTION:Thank you for considering visiting our church!\n\n\n\n\n\n\n\n\n\n\n\n\nWe are excited to welcome you. Join us on Sundays for a memorable experience.
URL:https://hopewellnortheast.org/event/sunday-school-all-ages-8/
LOCATION:Hopewell North East\, 2685 Camp Mitchell Rd\, Grayson\, GA\, 30017\, United States
ATTACH;FMTTYPE=image/jpeg:https://hopewellnortheast.org/wp-content/uploads/2025/03/Sunday-School.jpg
END:VEVENT
BEGIN:VEVENT
DTSTART;TZID=America/New_York:20250601T100000
DTEND;TZID=America/New_York:20250601T113000
DTSTAMP:20260419T215344
CREATED:20250529T003002Z
LAST-MODIFIED:20250529T003002Z
UID:24752-1748772000-1748777400@hopewellnortheast.org
SUMMARY:Worship Service\, Nursery\, Youth Church
DESCRIPTION:Thank you for considering visiting our church!\n\n\n\n\n\n\n\n\n\n\n\n\nWe are excited to welcome you. Join us on Sundays for a memorable experience.
URL:https://hopewellnortheast.org/event/worship-service-nursery-youth-church-10/
LOCATION:Hopewell North East\, 2685 Camp Mitchell Rd\, Grayson\, GA\, 30017\, United States
ATTACH;FMTTYPE=image/jpeg:https://hopewellnortheast.org/wp-content/uploads/2025/03/Sunday-Service-scaled.jpg
END:VEVENT
BEGIN:VEVENT
DTSTART;TZID=America/New_York:20250601T180000
DTEND;TZID=America/New_York:20250601T190000
DTSTAMP:20260419T215344
CREATED:20250529T003339Z
LAST-MODIFIED:20250529T003339Z
UID:24754-1748800800-1748804400@hopewellnortheast.org
SUMMARY:Marriage Ministry Prayer Line
DESCRIPTION:Marriage Ministry Prayer Line \nJoin us for our Marriage Ministry Prayer Line. \nIt is available for all married and engaged couples! \nPrayer Line Phone Number: (339) 207-7200 \nWhen: Every 1st and 3rd Sunday evening at 6:00 PM \nGather our hearts and let’s pray unto the Lord.
URL:https://hopewellnortheast.org/event/marriage-ministry-prayer-line-7/
LOCATION:Dial-In\, United States
ATTACH;FMTTYPE=image/jpeg:https://hopewellnortheast.org/wp-content/uploads/2025/04/Marriage-Ministry2.jpg
END:VEVENT
BEGIN:VEVENT
DTSTART;TZID=America/New_York:20250603T120000
DTEND;TZID=America/New_York:20250603T130000
DTSTAMP:20260419T215344
CREATED:20250529T003653Z
LAST-MODIFIED:20250529T003653Z
UID:24758-1748952000-1748955600@hopewellnortheast.org
SUMMARY:Noonday Bible Study
DESCRIPTION:TUESDAY \nIn person Noonday Bible Study every Tuesday at 12pm \nPlease click the link below to purchase your Tuesday Noonday Bible Study book: \n Romans: Becoming New In Christ: 19 Studies in 2 Parts
URL:https://hopewellnortheast.org/event/noonday-bible-study-14/
LOCATION:Hopewell North East\, 2685 Camp Mitchell Rd\, Grayson\, GA\, 30017\, United States
ATTACH;FMTTYPE=image/jpeg:https://hopewellnortheast.org/wp-content/uploads/2025/03/Bible-Study.jpg
END:VEVENT
BEGIN:VEVENT
DTSTART;TZID=America/New_York:20250604T190000
DTEND;TZID=America/New_York:20250604T200000
DTSTAMP:20260419T215344
CREATED:20250529T002152Z
LAST-MODIFIED:20250529T002152Z
UID:24745-1749063600-1749067200@hopewellnortheast.org
SUMMARY:Wednesday Night Bible Study
DESCRIPTION:Join us for bible study tonight at 7pm. \nPray Until Something Happens… \nPersist Until Something Happens… \nPresent Until Something Happens… \nPassionate Until Something Happens… \nPress Until Something Happens… \nPersevere Until Something Happens…
URL:https://hopewellnortheast.org/event/wednesday-night-bible-study-10/
LOCATION:Hopewell North East\, 2685 Camp Mitchell Rd\, Grayson\, GA\, 30017\, United States
ATTACH;FMTTYPE=image/jpeg:https://hopewellnortheast.org/wp-content/uploads/2025/05/Wednesday-Night-Bible-Study_June-2025.jpg
END:VEVENT
BEGIN:VEVENT
DTSTART;TZID=America/New_York:20250604T190000
DTEND;TZID=America/New_York:20250604T200000
DTSTAMP:20260419T215344
CREATED:20250702T021208Z
LAST-MODIFIED:20250702T021208Z
UID:24876-1749063600-1749067200@hopewellnortheast.org
SUMMARY:Dissertation
DESCRIPTION:Parents please bring your youth out to join Dissertation. \nFor Youth in 5th – 12th grade. \nDissertation is a creative way for young boys to learn and recite scripture. \nDissertation meets every Wednesday at 7pm.
URL:https://hopewellnortheast.org/event/dissertation-10/
LOCATION:Hopewell North East\, 2685 Camp Mitchell Rd\, Grayson\, GA\, 30017\, United States
ATTACH;FMTTYPE=image/jpeg:https://hopewellnortheast.org/wp-content/uploads/2025/03/Dissertation.jpg
END:VEVENT
BEGIN:VEVENT
DTSTART;TZID=America/New_York:20250608T081500
DTEND;TZID=America/New_York:20250608T095000
DTSTAMP:20260419T215344
CREATED:20250529T004836Z
LAST-MODIFIED:20250529T004836Z
UID:24764-1749370500-1749376200@hopewellnortheast.org
SUMMARY:GriefShare
DESCRIPTION:GriefShare is offered at Hopewell North East. \nGriefShare is a Christ-centered program that helps people apply biblical principles as they deal with the emotions and life stresses following the death of a loved one. \nClasses are held Sundays 8:15 am to 9:50 am. \nIf you would like to register for this class\, please send an email to info@hopewellnortheast.org \nto receive the registration link. \nThe cost of the program is $20 to cover your book. \nReminder \nPlease email us at \ninfo@hopewellnortheast.org \nto receive the link.
URL:https://hopewellnortheast.org/event/griefshare-13/
LOCATION:Hopewell North East\, 2685 Camp Mitchell Rd\, Grayson\, GA\, 30017\, United States
ATTACH;FMTTYPE=image/jpeg:https://hopewellnortheast.org/wp-content/uploads/2025/03/GriefShare.jpg
END:VEVENT
BEGIN:VEVENT
DTSTART;TZID=America/New_York:20250608T084500
DTEND;TZID=America/New_York:20250608T090000
DTSTAMP:20260419T215344
CREATED:20250604T190001Z
LAST-MODIFIED:20250604T190437Z
UID:24797-1749372300-1749373200@hopewellnortheast.org
SUMMARY:Baptism
DESCRIPTION:HNE Family \nHello and God Bless! \nPlease join us for Baptism this Sunday\, June 8\, 2025 at 8:45 AM.
URL:https://hopewellnortheast.org/event/baptism-4/
LOCATION:Hopewell North East\, 2685 Camp Mitchell Rd\, Grayson\, GA\, 30017\, United States
ATTACH;FMTTYPE=image/jpeg:https://hopewellnortheast.org/wp-content/uploads/2025/03/Baptism.jpg
END:VEVENT
BEGIN:VEVENT
DTSTART;TZID=America/New_York:20250608T090000
DTEND;TZID=America/New_York:20250608T094500
DTSTAMP:20260419T215344
CREATED:20250529T005008Z
LAST-MODIFIED:20250529T005008Z
UID:24766-1749373200-1749375900@hopewellnortheast.org
SUMMARY:Sunday School (All Ages)
DESCRIPTION:Thank you for considering visiting our church!\n\n\n\n\n\n\n\n\n\n\n\n\nWe are excited to welcome you. Join us on Sundays for a memorable experience.
URL:https://hopewellnortheast.org/event/sunday-school-all-ages-14/
LOCATION:Hopewell North East\, 2685 Camp Mitchell Rd\, Grayson\, GA\, 30017\, United States
ATTACH;FMTTYPE=image/jpeg:https://hopewellnortheast.org/wp-content/uploads/2025/03/Sunday-School.jpg
END:VEVENT
BEGIN:VEVENT
DTSTART;TZID=America/New_York:20250608T100000
DTEND;TZID=America/New_York:20250608T113000
DTSTAMP:20260419T215344
CREATED:20250529T005201Z
LAST-MODIFIED:20250529T005201Z
UID:24768-1749376800-1749382200@hopewellnortheast.org
SUMMARY:Worship Service\, Nursery\, Youth Church
DESCRIPTION:Thank you for considering visiting our church!\n\n\n\n\n\n\n\n\n\n\n\n\nWe are excited to welcome you. Join us on Sundays for a memorable experience.
URL:https://hopewellnortheast.org/event/worship-service-nursery-youth-church-15/
LOCATION:Hopewell North East\, 2685 Camp Mitchell Rd\, Grayson\, GA\, 30017\, United States
ATTACH;FMTTYPE=image/jpeg:https://hopewellnortheast.org/wp-content/uploads/2025/03/Sunday-Service-scaled.jpg
END:VEVENT
BEGIN:VEVENT
DTSTART;TZID=America/New_York:20250610T120000
DTEND;TZID=America/New_York:20250610T130000
DTSTAMP:20260419T215344
CREATED:20250630T013646Z
LAST-MODIFIED:20250630T013646Z
UID:24852-1749556800-1749560400@hopewellnortheast.org
SUMMARY:Noonday Bible Study
DESCRIPTION:TUESDAY \nIn person Noonday Bible Study every Tuesday at 12pm \nPlease click the link below to purchase your Tuesday Noonday Bible Study book: \n Romans: Becoming New In Christ: 19 Studies in 2 Parts
URL:https://hopewellnortheast.org/event/noonday-bible-study-17/
LOCATION:Hopewell North East\, 2685 Camp Mitchell Rd\, Grayson\, GA\, 30017\, United States
ATTACH;FMTTYPE=image/jpeg:https://hopewellnortheast.org/wp-content/uploads/2025/03/Bible-Study.jpg
END:VEVENT
BEGIN:VEVENT
DTSTART;TZID=America/New_York:20250610T190000
DTEND;TZID=America/New_York:20250610T200000
DTSTAMP:20260419T215344
CREATED:20250529T004405Z
LAST-MODIFIED:20250529T004405Z
UID:24760-1749582000-1749585600@hopewellnortheast.org
SUMMARY:The Project- Young Adult Small Group Bible Study
DESCRIPTION:JOIN US FOR “THE PROJECT” IN 2025\n\n\n\n\n\n\n\n\n\n\n\n\n\n\n\nYoung Adult Small Group Bible Study \nIn person 2nd and 4th Tuesdays at 7pm \nPlease click the link below to purchase your Bible Study workbook: \nFascinating Bible Studies on Every Parable \nand Great Characters of the Bible
URL:https://hopewellnortheast.org/event/the-project-young-adult-small-group-bible-study-5/
LOCATION:Ministry House\, 320 Ozora Rd.\, Loganville\, 30052\, United States
END:VEVENT
BEGIN:VEVENT
DTSTART;TZID=America/New_York:20250611T190000
DTEND;TZID=America/New_York:20250611T200000
DTSTAMP:20260419T215344
CREATED:20250601T024318Z
LAST-MODIFIED:20250601T024318Z
UID:24791-1749668400-1749672000@hopewellnortheast.org
SUMMARY:Wednesday Night Bible Study
DESCRIPTION:Join us for bible study tonight at 7pm. \nPray Until Something Happens… \nPersist Until Something Happens… \nPresent Until Something Happens… \nPassionate Until Something Happens… \nPress Until Something Happens… \nPersevere Until Something Happens…
URL:https://hopewellnortheast.org/event/wednesday-night-bible-study-11/
LOCATION:Hopewell North East\, 2685 Camp Mitchell Rd\, Grayson\, GA\, 30017\, United States
ATTACH;FMTTYPE=image/jpeg:https://hopewellnortheast.org/wp-content/uploads/2025/05/Wednesday-Night-Bible-Study_June-2025.jpg
END:VEVENT
BEGIN:VEVENT
DTSTART;TZID=America/New_York:20250611T190000
DTEND;TZID=America/New_York:20250611T200000
DTSTAMP:20260419T215344
CREATED:20250702T021255Z
LAST-MODIFIED:20250702T021255Z
UID:24878-1749668400-1749672000@hopewellnortheast.org
SUMMARY:Dissertation
DESCRIPTION:Parents please bring your youth out to join Dissertation. \nFor Youth in 5th – 12th grade. \nDissertation is a creative way for young boys to learn and recite scripture. \nDissertation meets every Wednesday at 7pm.
URL:https://hopewellnortheast.org/event/dissertation-11/
LOCATION:Hopewell North East\, 2685 Camp Mitchell Rd\, Grayson\, GA\, 30017\, United States
ATTACH;FMTTYPE=image/jpeg:https://hopewellnortheast.org/wp-content/uploads/2025/03/Dissertation.jpg
END:VEVENT
BEGIN:VEVENT
DTSTART;TZID=America/New_York:20250615T081500
DTEND;TZID=America/New_York:20250615T095000
DTSTAMP:20260419T215344
CREATED:20250529T005306Z
LAST-MODIFIED:20250529T005306Z
UID:24770-1749975300-1749981000@hopewellnortheast.org
SUMMARY:GriefShare
DESCRIPTION:GriefShare is offered at Hopewell North East. \nGriefShare is a Christ-centered program that helps people apply biblical principles as they deal with the emotions and life stresses following the death of a loved one. \nClasses are held Sundays 8:15 am to 9:50 am. \nIf you would like to register for this class\, please send an email to info@hopewellnortheast.org \nto receive the registration link. \nThe cost of the program is $20 to cover your book. \nReminder \nPlease email us at \ninfo@hopewellnortheast.org \nto receive the link.
URL:https://hopewellnortheast.org/event/griefshare-14/
LOCATION:Hopewell North East\, 2685 Camp Mitchell Rd\, Grayson\, GA\, 30017\, United States
ATTACH;FMTTYPE=image/jpeg:https://hopewellnortheast.org/wp-content/uploads/2025/03/GriefShare.jpg
END:VEVENT
BEGIN:VEVENT
DTSTART;TZID=America/New_York:20250615T090000
DTEND;TZID=America/New_York:20250615T094500
DTSTAMP:20260419T215344
CREATED:20250529T005439Z
LAST-MODIFIED:20250529T005439Z
UID:24772-1749978000-1749980700@hopewellnortheast.org
SUMMARY:Sunday School (All Ages)
DESCRIPTION:Thank you for considering visiting our church!\n\n\n\n\n\n\n\n\n\n\n\n\nWe are excited to welcome you. Join us on Sundays for a memorable experience.
URL:https://hopewellnortheast.org/event/sunday-school-all-ages-15/
LOCATION:Hopewell North East\, 2685 Camp Mitchell Rd\, Grayson\, GA\, 30017\, United States
ATTACH;FMTTYPE=image/jpeg:https://hopewellnortheast.org/wp-content/uploads/2025/03/Sunday-School.jpg
END:VEVENT
BEGIN:VEVENT
DTSTART;TZID=America/New_York:20250615T100000
DTEND;TZID=America/New_York:20250615T113000
DTSTAMP:20260419T215344
CREATED:20250529T005537Z
LAST-MODIFIED:20250529T005537Z
UID:24774-1749981600-1749987000@hopewellnortheast.org
SUMMARY:Worship Service\, Nursery\, Youth Church
DESCRIPTION:Thank you for considering visiting our church!\n\n\n\n\n\n\n\n\n\n\n\n\nWe are excited to welcome you. Join us on Sundays for a memorable experience.
URL:https://hopewellnortheast.org/event/worship-service-nursery-youth-church-16/
LOCATION:Hopewell North East\, 2685 Camp Mitchell Rd\, Grayson\, GA\, 30017\, United States
ATTACH;FMTTYPE=image/jpeg:https://hopewellnortheast.org/wp-content/uploads/2025/03/Sunday-Service-scaled.jpg
END:VEVENT
BEGIN:VEVENT
DTSTART;TZID=America/New_York:20250617T120000
DTEND;TZID=America/New_York:20250617T130000
DTSTAMP:20260419T215344
CREATED:20250630T013341Z
LAST-MODIFIED:20250630T013341Z
UID:24850-1750161600-1750165200@hopewellnortheast.org
SUMMARY:Noonday Bible Study
DESCRIPTION:TUESDAY \nIn person Noonday Bible Study every Tuesday at 12pm \nPlease click the link below to purchase your Tuesday Noonday Bible Study book: \n Romans: Becoming New In Christ: 19 Studies in 2 Parts
URL:https://hopewellnortheast.org/event/noonday-bible-study-16/
LOCATION:Hopewell North East\, 2685 Camp Mitchell Rd\, Grayson\, GA\, 30017\, United States
ATTACH;FMTTYPE=image/jpeg:https://hopewellnortheast.org/wp-content/uploads/2025/03/Bible-Study.jpg
END:VEVENT
BEGIN:VEVENT
DTSTART;TZID=America/New_York:20250618T190000
DTEND;TZID=America/New_York:20250618T200000
DTSTAMP:20260419T215344
CREATED:20250601T024405Z
LAST-MODIFIED:20250601T024405Z
UID:24793-1750273200-1750276800@hopewellnortheast.org
SUMMARY:Wednesday Night Bible Study
DESCRIPTION:Join us for bible study tonight at 7pm. \nPray Until Something Happens… \nPersist Until Something Happens… \nPresent Until Something Happens… \nPassionate Until Something Happens… \nPress Until Something Happens… \nPersevere Until Something Happens…
URL:https://hopewellnortheast.org/event/wednesday-night-bible-study-12/
LOCATION:Hopewell North East\, 2685 Camp Mitchell Rd\, Grayson\, GA\, 30017\, United States
ATTACH;FMTTYPE=image/jpeg:https://hopewellnortheast.org/wp-content/uploads/2025/05/Wednesday-Night-Bible-Study_June-2025.jpg
END:VEVENT
BEGIN:VEVENT
DTSTART;TZID=America/New_York:20250618T190000
DTEND;TZID=America/New_York:20250618T200000
DTSTAMP:20260419T215344
CREATED:20250702T021411Z
LAST-MODIFIED:20250702T021411Z
UID:24880-1750273200-1750276800@hopewellnortheast.org
SUMMARY:Dissertation
DESCRIPTION:Parents please bring your youth out to join Dissertation. \nFor Youth in 5th – 12th grade. \nDissertation is a creative way for young boys to learn and recite scripture. \nDissertation meets every Wednesday at 7pm.
URL:https://hopewellnortheast.org/event/dissertation-12/
LOCATION:Hopewell North East\, 2685 Camp Mitchell Rd\, Grayson\, GA\, 30017\, United States
ATTACH;FMTTYPE=image/jpeg:https://hopewellnortheast.org/wp-content/uploads/2025/03/Dissertation.jpg
END:VEVENT
BEGIN:VEVENT
DTSTART;TZID=America/New_York:20250622T081500
DTEND;TZID=America/New_York:20250622T095000
DTSTAMP:20260419T215344
CREATED:20250529T005724Z
LAST-MODIFIED:20250529T005724Z
UID:24776-1750580100-1750585800@hopewellnortheast.org
SUMMARY:GriefShare
DESCRIPTION:GriefShare is offered at Hopewell North East. \nGriefShare is a Christ-centered program that helps people apply biblical principles as they deal with the emotions and life stresses following the death of a loved one. \nClasses are held Sundays 8:15 am to 9:50 am. \nIf you would like to register for this class\, please send an email to info@hopewellnortheast.org \nto receive the registration link. \nThe cost of the program is $20 to cover your book. \nReminder \nPlease email us at \ninfo@hopewellnortheast.org \nto receive the link.
URL:https://hopewellnortheast.org/event/griefshare-15/
LOCATION:Hopewell North East\, 2685 Camp Mitchell Rd\, Grayson\, GA\, 30017\, United States
ATTACH;FMTTYPE=image/jpeg:https://hopewellnortheast.org/wp-content/uploads/2025/03/GriefShare.jpg
END:VEVENT
BEGIN:VEVENT
DTSTART;TZID=America/New_York:20250622T090000
DTEND;TZID=America/New_York:20250622T094500
DTSTAMP:20260419T215344
CREATED:20250529T005818Z
LAST-MODIFIED:20250529T005818Z
UID:24778-1750582800-1750585500@hopewellnortheast.org
SUMMARY:Sunday School (All Ages)
DESCRIPTION:Thank you for considering visiting our church!\n\n\n\n\n\n\n\n\n\n\n\n\nWe are excited to welcome you. Join us on Sundays for a memorable experience.
URL:https://hopewellnortheast.org/event/sunday-school-all-ages-16/
LOCATION:Hopewell North East\, 2685 Camp Mitchell Rd\, Grayson\, GA\, 30017\, United States
ATTACH;FMTTYPE=image/jpeg:https://hopewellnortheast.org/wp-content/uploads/2025/03/Sunday-School.jpg
END:VEVENT
BEGIN:VEVENT
DTSTART;TZID=America/New_York:20250622T100000
DTEND;TZID=America/New_York:20250622T113000
DTSTAMP:20260419T215344
CREATED:20250529T010028Z
LAST-MODIFIED:20250529T010028Z
UID:24780-1750586400-1750591800@hopewellnortheast.org
SUMMARY:Worship Service\, Nursery\, Youth Church
DESCRIPTION:Thank you for considering visiting our church!\n\n\n\n\n\n\n\n\n\n\n\n\nWe are excited to welcome you. Join us on Sundays for a memorable experience.
URL:https://hopewellnortheast.org/event/worship-service-nursery-youth-church-17/
LOCATION:Hopewell North East\, 2685 Camp Mitchell Rd\, Grayson\, GA\, 30017\, United States
ATTACH;FMTTYPE=image/jpeg:https://hopewellnortheast.org/wp-content/uploads/2025/03/Sunday-Service-scaled.jpg
END:VEVENT
BEGIN:VEVENT
DTSTART;TZID=America/New_York:20250622T180000
DTEND;TZID=America/New_York:20250622T190000
DTSTAMP:20260419T215344
CREATED:20250529T003513Z
LAST-MODIFIED:20250615T172746Z
UID:24756-1750615200-1750618800@hopewellnortheast.org
SUMMARY:Marriage Ministry Prayer Line
DESCRIPTION:Marriage Ministry Prayer Line \nJoin us for our Marriage Ministry Prayer Line. \nIt is available for all married and engaged couples! \nPrayer Line Phone Number: (339) 207-7200 \nWhen: Normally every 1st and 3rd Sunday evening at 6:00 PM.  CHANGED TO 4TH SUNDAY DUE TO FATHER’S DAY \nGather our hearts and let’s pray unto the Lord.
URL:https://hopewellnortheast.org/event/marriage-ministry-prayer-line-8/
LOCATION:Dial-In\, United States
ATTACH;FMTTYPE=image/jpeg:https://hopewellnortheast.org/wp-content/uploads/2025/04/Marriage-Ministry2.jpg
END:VEVENT
BEGIN:VEVENT
DTSTART;TZID=America/New_York:20250623T180000
DTEND;TZID=America/New_York:20250623T203000
DTSTAMP:20260419T215344
CREATED:20250604T194220Z
LAST-MODIFIED:20250604T194220Z
UID:24800-1750701600-1750710600@hopewellnortheast.org
SUMMARY:Vacation Bible School
DESCRIPTION:Join Us for Vacation Bible School! \nThe Jesus Connection — Downloads from Heaven \nJune 23–25\, 2025 6:00 PM – 8:30 PM \nHopewell North East Baptist Church \nGet plugged in to the ultimate source! \nWe invite you and your entire family to join us for three exciting nights of VBS filled with interactive lessons\, uplifting music\, creative crafts\, games\, and fun fellowship — all centered around The Jesus Connection: Downloads from Heaven. \nJust like we download apps for daily life\, this week we’ll download spiritual tools that strengthen our connection to Christ! \nThere’s a class for everyone — children\, youth\, and adults. \nLet’s grow together and receive everything God has for us! \nWe can’t wait to see you there!
URL:https://hopewellnortheast.org/event/vacation-bible-school/
LOCATION:Hopewell North East\, 2685 Camp Mitchell Rd\, Grayson\, GA\, 30017\, United States
ATTACH;FMTTYPE=image/jpeg:https://hopewellnortheast.org/wp-content/uploads/2025/06/VBS_2025.jpg
END:VEVENT
BEGIN:VEVENT
DTSTART;TZID=America/New_York:20250624T180000
DTEND;TZID=America/New_York:20250624T203000
DTSTAMP:20260419T215344
CREATED:20250604T194359Z
LAST-MODIFIED:20250604T194359Z
UID:24803-1750788000-1750797000@hopewellnortheast.org
SUMMARY:Vacation Bible School
DESCRIPTION:Join Us for Vacation Bible School! \nThe Jesus Connection — Downloads from Heaven \nJune 23–25\, 2025 6:00 PM – 8:30 PM \nHopewell North East Baptist Church \nGet plugged in to the ultimate source! \nWe invite you and your entire family to join us for three exciting nights of VBS filled with interactive lessons\, uplifting music\, creative crafts\, games\, and fun fellowship — all centered around The Jesus Connection: Downloads from Heaven. \nJust like we download apps for daily life\, this week we’ll download spiritual tools that strengthen our connection to Christ! \nThere’s a class for everyone — children\, youth\, and adults. \nLet’s grow together and receive everything God has for us! \nWe can’t wait to see you there!
URL:https://hopewellnortheast.org/event/vacation-bible-school-2/
LOCATION:Hopewell North East\, 2685 Camp Mitchell Rd\, Grayson\, GA\, 30017\, United States
ATTACH;FMTTYPE=image/jpeg:https://hopewellnortheast.org/wp-content/uploads/2025/06/VBS_2025.jpg
END:VEVENT
BEGIN:VEVENT
DTSTART;TZID=America/New_York:20250624T190000
DTEND;TZID=America/New_York:20250624T200000
DTSTAMP:20260419T215344
CREATED:20250529T004614Z
LAST-MODIFIED:20250529T004614Z
UID:24762-1750791600-1750795200@hopewellnortheast.org
SUMMARY:The Project- Young Adult Small Group Bible Study
DESCRIPTION:JOIN US FOR “THE PROJECT” IN 2025\n\n\n\n\n\n\n\n\n\n\n\n\n\n\n\nYoung Adult Small Group Bible Study \nIn person 2nd and 4th Tuesdays at 7pm \nPlease click the link below to purchase your Bible Study workbook: \nFascinating Bible Studies on Every Parable \nand Great Characters of the Bible
URL:https://hopewellnortheast.org/event/the-project-young-adult-small-group-bible-study-6/
LOCATION:Ministry House\, 320 Ozora Rd.\, Loganville\, 30052\, United States
END:VEVENT
BEGIN:VEVENT
DTSTART;TZID=America/New_York:20250625T180000
DTEND;TZID=America/New_York:20250625T203000
DTSTAMP:20260419T215344
CREATED:20250604T194449Z
LAST-MODIFIED:20250604T194449Z
UID:24805-1750874400-1750883400@hopewellnortheast.org
SUMMARY:Vacation Bible School
DESCRIPTION:Join Us for Vacation Bible School! \nThe Jesus Connection — Downloads from Heaven \nJune 23–25\, 2025 6:00 PM – 8:30 PM \nHopewell North East Baptist Church \nGet plugged in to the ultimate source! \nWe invite you and your entire family to join us for three exciting nights of VBS filled with interactive lessons\, uplifting music\, creative crafts\, games\, and fun fellowship — all centered around The Jesus Connection: Downloads from Heaven. \nJust like we download apps for daily life\, this week we’ll download spiritual tools that strengthen our connection to Christ! \nThere’s a class for everyone — children\, youth\, and adults. \nLet’s grow together and receive everything God has for us! \nWe can’t wait to see you there!
URL:https://hopewellnortheast.org/event/vacation-bible-school-3/
LOCATION:Hopewell North East\, 2685 Camp Mitchell Rd\, Grayson\, GA\, 30017\, United States
ATTACH;FMTTYPE=image/jpeg:https://hopewellnortheast.org/wp-content/uploads/2025/06/VBS_2025.jpg
END:VEVENT
BEGIN:VEVENT
DTSTART;TZID=America/New_York:20250629T081500
DTEND;TZID=America/New_York:20250629T095000
DTSTAMP:20260419T215344
CREATED:20250529T010257Z
LAST-MODIFIED:20250529T010257Z
UID:24782-1751184900-1751190600@hopewellnortheast.org
SUMMARY:GriefShare
DESCRIPTION:GriefShare is offered at Hopewell North East. \nGriefShare is a Christ-centered program that helps people apply biblical principles as they deal with the emotions and life stresses following the death of a loved one. \nClasses are held Sundays 8:15 am to 9:50 am. \nIf you would like to register for this class\, please send an email to info@hopewellnortheast.org \nto receive the registration link. \nThe cost of the program is $20 to cover your book. \nReminder \nPlease email us at \ninfo@hopewellnortheast.org \nto receive the link.
URL:https://hopewellnortheast.org/event/griefshare-16/
LOCATION:Hopewell North East\, 2685 Camp Mitchell Rd\, Grayson\, GA\, 30017\, United States
ATTACH;FMTTYPE=image/jpeg:https://hopewellnortheast.org/wp-content/uploads/2025/03/GriefShare.jpg
END:VEVENT
END:VCALENDAR