BEGIN:VCALENDAR
VERSION:2.0
PRODID:-//Hopewell North East - ECPv6.15.20//NONSGML v1.0//EN
CALSCALE:GREGORIAN
METHOD:PUBLISH
X-ORIGINAL-URL:https://hopewellnortheast.org
X-WR-CALDESC:Events for Hopewell North East
REFRESH-INTERVAL;VALUE=DURATION:PT1H
X-Robots-Tag:noindex
X-PUBLISHED-TTL:PT1H
BEGIN:VTIMEZONE
TZID:America/New_York
BEGIN:DAYLIGHT
TZOFFSETFROM:-0500
TZOFFSETTO:-0400
TZNAME:EDT
DTSTART:20240310T070000
END:DAYLIGHT
BEGIN:STANDARD
TZOFFSETFROM:-0400
TZOFFSETTO:-0500
TZNAME:EST
DTSTART:20241103T060000
END:STANDARD
BEGIN:DAYLIGHT
TZOFFSETFROM:-0500
TZOFFSETTO:-0400
TZNAME:EDT
DTSTART:20250309T070000
END:DAYLIGHT
BEGIN:STANDARD
TZOFFSETFROM:-0400
TZOFFSETTO:-0500
TZNAME:EST
DTSTART:20251102T060000
END:STANDARD
BEGIN:DAYLIGHT
TZOFFSETFROM:-0500
TZOFFSETTO:-0400
TZNAME:EDT
DTSTART:20260308T070000
END:DAYLIGHT
BEGIN:STANDARD
TZOFFSETFROM:-0400
TZOFFSETTO:-0500
TZNAME:EST
DTSTART:20261101T060000
END:STANDARD
END:VTIMEZONE
BEGIN:VTIMEZONE
TZID:UTC
BEGIN:STANDARD
TZOFFSETFROM:+0000
TZOFFSETTO:+0000
TZNAME:UTC
DTSTART:20240101T000000
END:STANDARD
END:VTIMEZONE
BEGIN:VEVENT
DTSTART;TZID=America/New_York:20250322T180000
DTEND;TZID=America/New_York:20250322T190000
DTSTAMP:20260420T023727
CREATED:20250319T191210Z
LAST-MODIFIED:20250319T191210Z
UID:24435-1742666400-1742670000@hopewellnortheast.org
SUMMARY:Next Generation Youth Intercessors
DESCRIPTION:Next Generation Youth Intercessors \nWill meet EVERY 4th Saturday of the month at 6pm. \nPlease email the church office at info@hopewellnortheast.org \nfor the Zoom Link
URL:https://hopewellnortheast.org/event/next-generation-youth-intercessors/
LOCATION:Zoom
ATTACH;FMTTYPE=image/jpeg:https://hopewellnortheast.org/wp-content/uploads/2025/03/Youth-Intercessors.jpg
END:VEVENT
BEGIN:VEVENT
DTSTART;TZID=America/New_York:20250323T081500
DTEND;TZID=America/New_York:20250323T095000
DTSTAMP:20260420T023727
CREATED:20250305T223947Z
LAST-MODIFIED:20250308T115620Z
UID:24321-1742717700-1742723400@hopewellnortheast.org
SUMMARY:GriefShare
DESCRIPTION:The current GriefShare session ends on March 30th and GriefShare will resume on April 27th at 8:15 am. \nGriefShare is offered at Hopewell North East. \nGriefShare is a Christ-centered program that helps people apply biblical principles as they deal with the emotions and life stresses following the death of a loved one. \nClasses are held Sundays 8:15 am to 9:50 am. \nIf you would like to register for this class\, please send an email to info@hopewellnortheast.org \nto receive the registration link. \nThe cost of the program is $20 to cover your book. \nReminder \nPlease email us at \ninfo@hopewellnortheast.org \nto receive the link.
URL:https://hopewellnortheast.org/event/griefshare-5/
LOCATION:Hopewell North East\, 2685 Camp Mitchell Rd\, Grayson\, GA\, 30017\, United States
ATTACH;FMTTYPE=image/jpeg:https://hopewellnortheast.org/wp-content/uploads/2025/03/GriefShare.jpg
END:VEVENT
BEGIN:VEVENT
DTSTART;TZID=America/New_York:20250323T090000
DTEND;TZID=America/New_York:20250323T094500
DTSTAMP:20260420T023727
CREATED:20250306T013543Z
LAST-MODIFIED:20250306T013543Z
UID:24356-1742720400-1742723100@hopewellnortheast.org
SUMMARY:Sunday School (All Ages)
DESCRIPTION:Thank you for considering visiting our church!\n\n\n\n\n\n\n\n\n\n\n\n\nWe are excited to welcome you. Join us on Sundays for a memorable experience.
URL:https://hopewellnortheast.org/event/sunday-school-all-ages-4/
LOCATION:Hopewell North East\, 2685 Camp Mitchell Rd\, Grayson\, GA\, 30017\, United States
END:VEVENT
BEGIN:VEVENT
DTSTART;TZID=America/New_York:20250323T100000
DTEND;TZID=America/New_York:20250323T113000
DTSTAMP:20260420T023727
CREATED:20250306T013626Z
LAST-MODIFIED:20250306T020009Z
UID:24358-1742724000-1742729400@hopewellnortheast.org
SUMMARY:Worship Service\, Nursery\, Youth Church
DESCRIPTION:Thank you for considering visiting our church!\n\n\n\n\n\n\n\n\n\n\n\n\nWe are excited to welcome you. Join us on Sundays for a memorable experience.
URL:https://hopewellnortheast.org/event/worship-service-nursery-youth-church-4/
LOCATION:Hopewell North East\, 2685 Camp Mitchell Rd\, Grayson\, GA\, 30017\, United States
ATTACH;FMTTYPE=image/jpeg:https://hopewellnortheast.org/wp-content/uploads/2025/03/Sunday-Service-scaled.jpg
END:VEVENT
BEGIN:VEVENT
DTSTART;TZID=America/New_York:20250325T120000
DTEND;TZID=America/New_York:20250325T130000
DTSTAMP:20260420T023727
CREATED:20250305T225438Z
LAST-MODIFIED:20250305T225438Z
UID:24332-1742904000-1742907600@hopewellnortheast.org
SUMMARY:Noonday Bible Study
DESCRIPTION:TUESDAY \nIn person Noonday Bible Study every Tuesday at 12pm \nPlease click the link below to purchase your Tuesday Noonday Bible Study book: \n Romans: Becoming New In Christ: 19 Studies in 2 Parts
URL:https://hopewellnortheast.org/event/noonday-bible-study-4/
LOCATION:Hopewell North East\, 2685 Camp Mitchell Rd\, Grayson\, GA\, 30017\, United States
ATTACH;FMTTYPE=image/jpeg:https://hopewellnortheast.org/wp-content/uploads/2025/03/Bible-Study.jpg
END:VEVENT
BEGIN:VEVENT
DTSTART;TZID=America/New_York:20250325T190000
DTEND;TZID=America/New_York:20250325T200000
DTSTAMP:20260420T023727
CREATED:20250305T230112Z
LAST-MODIFIED:20250314T144850Z
UID:24336-1742929200-1742932800@hopewellnortheast.org
SUMMARY:The Project- Young Adult Small Group Bible Study
DESCRIPTION:JOIN US FOR “THE PROJECT” IN 2025\n\n\n\n\n\n\n\n\n\n\n\n\n\n\n\nYoung Adult Small Group Bible Study \nIn person 2nd and 4th Tuesdays at 7pm \nPlease click the link below to purchase your Bible Study workbook: \nFascinating Bible Studies on Every Parable \nand Great Characters of the Bible
URL:https://hopewellnortheast.org/event/the-project-young-adult-small-group-bible-study-2/
LOCATION:Ministry House\, 320 Ozora Rd.\, Loganville\, 30052\, United States
END:VEVENT
BEGIN:VEVENT
DTSTART;TZID=America/New_York:20250326T190000
DTEND;TZID=America/New_York:20250326T200000
DTSTAMP:20260420T023727
CREATED:20250305T222013Z
LAST-MODIFIED:20250305T223047Z
UID:24303-1743015600-1743019200@hopewellnortheast.org
SUMMARY:March Gladness 2025
DESCRIPTION:IT’S MARCH GLADNESS!!!! \nJoin us for bible study tonight at 7pm. \nAs we P.U.S.H. our way through March. \nPray Until Something Happens… \nPersist Until Something Happens… \nPresent Until Something Happens… \nPassionate Until Something Happens… \nPress Until Something Happens… \nPersevere Until Something Happens… \nThe Month of Healing!
URL:https://hopewellnortheast.org/event/march-gladness-2025-4/
LOCATION:Hopewell North East\, 2685 Camp Mitchell Rd\, Grayson\, GA\, 30017\, United States
ATTACH;FMTTYPE=image/jpeg:https://hopewellnortheast.org/wp-content/uploads/2025/03/March-Gladness-2025.jpg
END:VEVENT
BEGIN:VEVENT
DTSTART;TZID=America/New_York:20250326T190000
DTEND;TZID=America/New_York:20250326T200000
DTSTAMP:20260420T023727
CREATED:20250305T222721Z
LAST-MODIFIED:20250305T222721Z
UID:24312-1743015600-1743019200@hopewellnortheast.org
SUMMARY:Dissertation
DESCRIPTION:Parents please bring your youth out to join Dissertation. \nFor Youth in 5th – 12th grade. \nDissertation is a creative way for young boys to learn and recite scripture. \nDissertation meets every Wednesday at 7pm.
URL:https://hopewellnortheast.org/event/dissertation-4/
LOCATION:Hopewell North East\, 2685 Camp Mitchell Rd\, Grayson\, GA\, 30017\, United States
ATTACH;FMTTYPE=image/jpeg:https://hopewellnortheast.org/wp-content/uploads/2025/03/Dissertation.jpg
END:VEVENT
BEGIN:VEVENT
DTSTART;TZID=America/New_York:20250330T081500
DTEND;TZID=America/New_York:20250330T095000
DTSTAMP:20260420T023727
CREATED:20250305T224402Z
LAST-MODIFIED:20250308T115713Z
UID:24323-1743322500-1743328200@hopewellnortheast.org
SUMMARY:GriefShare
DESCRIPTION:The current GriefShare session ends on March 30th and GriefShare will resume on April 27th at 8:15 am. \nGriefShare is offered at Hopewell North East. \nGriefShare is a Christ-centered program that helps people apply biblical principles as they deal with the emotions and life stresses following the death of a loved one. \nClasses are held Sundays 8:15 am to 9:50 am. \nIf you would like to register for this class\, please send an email to info@hopewellnortheast.org \nto receive the registration link. \nThe cost of the program is $20 to cover your book. \nReminder \nPlease email us at \ninfo@hopewellnortheast.org \nto receive the link.
URL:https://hopewellnortheast.org/event/griefshare-6/
LOCATION:Hopewell North East\, 2685 Camp Mitchell Rd\, Grayson\, GA\, 30017\, United States
ATTACH;FMTTYPE=image/jpeg:https://hopewellnortheast.org/wp-content/uploads/2025/03/GriefShare.jpg
END:VEVENT
BEGIN:VEVENT
DTSTART;TZID=America/New_York:20250330T090000
DTEND;TZID=America/New_York:20250330T094500
DTSTAMP:20260420T023727
CREATED:20250306T013709Z
LAST-MODIFIED:20250324T204147Z
UID:24360-1743325200-1743327900@hopewellnortheast.org
SUMMARY:Sunday School (All Ages)
DESCRIPTION:Thank you for considering visiting our church!\n\n\n\n\n\n\n\n\n\n\n\n\nWe are excited to welcome you. Join us on Sundays for a memorable experience.
URL:https://hopewellnortheast.org/event/sunday-school-all-ages-5/
LOCATION:Hopewell North East\, 2685 Camp Mitchell Rd\, Grayson\, GA\, 30017\, United States
ATTACH;FMTTYPE=image/jpeg:https://hopewellnortheast.org/wp-content/uploads/2025/03/Sunday-School.jpg
END:VEVENT
BEGIN:VEVENT
DTSTART;TZID=America/New_York:20250330T100000
DTEND;TZID=America/New_York:20250330T113000
DTSTAMP:20260420T023727
CREATED:20250306T013751Z
LAST-MODIFIED:20250306T020046Z
UID:24362-1743328800-1743334200@hopewellnortheast.org
SUMMARY:Worship Service\, Nursery\, Youth Church
DESCRIPTION:Thank you for considering visiting our church!\n\n\n\n\n\n\n\n\n\n\n\n\nWe are excited to welcome you. Join us on Sundays for a memorable experience.
URL:https://hopewellnortheast.org/event/worship-service-nursery-youth-church-5/
LOCATION:Hopewell North East\, 2685 Camp Mitchell Rd\, Grayson\, GA\, 30017\, United States
ATTACH;FMTTYPE=image/jpeg:https://hopewellnortheast.org/wp-content/uploads/2025/03/Sunday-Service-scaled.jpg
END:VEVENT
BEGIN:VEVENT
DTSTART;TZID=America/New_York:20250401T120000
DTEND;TZID=America/New_York:20250401T130000
DTSTAMP:20260420T023727
CREATED:20250316T212344Z
LAST-MODIFIED:20250316T212344Z
UID:24399-1743508800-1743512400@hopewellnortheast.org
SUMMARY:Noonday Bible Study
DESCRIPTION:TUESDAY \nIn person Noonday Bible Study every Tuesday at 12pm \nPlease click the link below to purchase your Tuesday Noonday Bible Study book: \n Romans: Becoming New In Christ: 19 Studies in 2 Parts
URL:https://hopewellnortheast.org/event/noonday-bible-study-5/
LOCATION:Hopewell North East\, 2685 Camp Mitchell Rd\, Grayson\, GA\, 30017\, United States
ATTACH;FMTTYPE=image/jpeg:https://hopewellnortheast.org/wp-content/uploads/2025/03/Bible-Study.jpg
END:VEVENT
BEGIN:VEVENT
DTSTART;TZID=America/New_York:20250402T190000
DTEND;TZID=America/New_York:20250402T200000
DTSTAMP:20260420T023727
CREATED:20250317T133941Z
LAST-MODIFIED:20250402T205653Z
UID:24431-1743620400-1743624000@hopewellnortheast.org
SUMMARY:Wednesday Night Bible Study
DESCRIPTION:Join us for bible study tonight at 7pm. \nAs God showers us with blessings in April\, \nPray Until Something Happens… \nPersist Until Something Happens… \nPresent Until Something Happens… \nPassionate Until Something Happens… \nPress Until Something Happens… \nPersevere Until Something Happens…
URL:https://hopewellnortheast.org/event/wednesday-night-bible-study/
LOCATION:Hopewell North East\, 2685 Camp Mitchell Rd\, Grayson\, GA\, 30017\, United States
ATTACH;FMTTYPE=image/jpeg:https://hopewellnortheast.org/wp-content/uploads/2025/03/April-Showers-2025.jpg
END:VEVENT
BEGIN:VEVENT
DTSTART;TZID=America/New_York:20250402T190000
DTEND;TZID=America/New_York:20250402T200000
DTSTAMP:20260420T023727
CREATED:20250317T134158Z
LAST-MODIFIED:20250317T134158Z
UID:24433-1743620400-1743624000@hopewellnortheast.org
SUMMARY:Dissertation
DESCRIPTION:Parents please bring your youth out to join Dissertation. \nFor Youth in 5th – 12th grade. \nDissertation is a creative way for young boys to learn and recite scripture. \nDissertation meets every Wednesday at 7pm.
URL:https://hopewellnortheast.org/event/dissertation-5/
LOCATION:Hopewell North East\, 2685 Camp Mitchell Rd\, Grayson\, GA\, 30017\, United States
ATTACH;FMTTYPE=image/jpeg:https://hopewellnortheast.org/wp-content/uploads/2025/03/Dissertation.jpg
END:VEVENT
BEGIN:VEVENT
DTSTART;TZID=America/New_York:20250406T090000
DTEND;TZID=America/New_York:20250406T094500
DTSTAMP:20260420T023727
CREATED:20250317T132242Z
LAST-MODIFIED:20250324T204322Z
UID:24415-1743930000-1743932700@hopewellnortheast.org
SUMMARY:Sunday School (All Ages)
DESCRIPTION:Thank you for considering visiting our church!\n\n\n\n\n\n\n\n\n\n\n\n\nWe are excited to welcome you. Join us on Sundays for a memorable experience.
URL:https://hopewellnortheast.org/event/sunday-school-all-ages-6/
LOCATION:Hopewell North East\, 2685 Camp Mitchell Rd\, Grayson\, GA\, 30017\, United States
ATTACH;FMTTYPE=image/jpeg:https://hopewellnortheast.org/wp-content/uploads/2025/03/Sunday-School.jpg
END:VEVENT
BEGIN:VEVENT
DTSTART;TZID=America/New_York:20250406T100000
DTEND;TZID=America/New_York:20250406T113000
DTSTAMP:20260420T023727
CREATED:20250317T132407Z
LAST-MODIFIED:20250317T132407Z
UID:24417-1743933600-1743939000@hopewellnortheast.org
SUMMARY:Worship Service\, Nursery\, Youth Church
DESCRIPTION:Thank you for considering visiting our church!\n\n\n\n\n\n\n\n\n\n\n\n\nWe are excited to welcome you. Join us on Sundays for a memorable experience.
URL:https://hopewellnortheast.org/event/worship-service-nursery-youth-church-6/
LOCATION:Hopewell North East\, 2685 Camp Mitchell Rd\, Grayson\, GA\, 30017\, United States
ATTACH;FMTTYPE=image/jpeg:https://hopewellnortheast.org/wp-content/uploads/2025/03/Sunday-Service-scaled.jpg
END:VEVENT
BEGIN:VEVENT
DTSTART;TZID=America/New_York:20250406T180000
DTEND;TZID=America/New_York:20250406T190000
DTSTAMP:20260420T023727
CREATED:20250316T115225Z
LAST-MODIFIED:20250402T213104Z
UID:24395-1743962400-1743966000@hopewellnortheast.org
SUMMARY:Marriage Ministry Prayer Line
DESCRIPTION:Marriage Ministry Prayer Line \nJoin us for our Marriage Ministry Prayer Line. \nIt is available for all married and engaged couples! \nPrayer Line Phone Number: (339) 207-7200 \nWhen: Every 1st and 3rd Sunday evening at 6:00 PM \nJoin the Marriage Ministry Prayer Line on Sunday\, March 16th \nGather our hearts and let’s pray unto the Lord.
URL:https://hopewellnortheast.org/event/marriage-ministry-prayer-line-2/
LOCATION:Dial-In\, United States
END:VEVENT
BEGIN:VEVENT
DTSTART;TZID=America/New_York:20250408T120000
DTEND;TZID=America/New_York:20250408T130000
DTSTAMP:20260420T023727
CREATED:20250316T213054Z
LAST-MODIFIED:20250316T213054Z
UID:24405-1744113600-1744117200@hopewellnortheast.org
SUMMARY:Noonday Bible Study
DESCRIPTION:TUESDAY \nIn person Noonday Bible Study every Tuesday at 12pm \nPlease click the link below to purchase your Tuesday Noonday Bible Study book: \n Romans: Becoming New In Christ: 19 Studies in 2 Parts
URL:https://hopewellnortheast.org/event/noonday-bible-study-6/
LOCATION:Hopewell North East\, 2685 Camp Mitchell Rd\, Grayson\, GA\, 30017\, United States
ATTACH;FMTTYPE=image/jpeg:https://hopewellnortheast.org/wp-content/uploads/2025/03/Bible-Study.jpg
END:VEVENT
BEGIN:VEVENT
DTSTART;TZID=America/New_York:20250408T190000
DTEND;TZID=America/New_York:20250408T200000
DTSTAMP:20260420T023727
CREATED:20250316T212741Z
LAST-MODIFIED:20250316T212741Z
UID:24401-1744138800-1744142400@hopewellnortheast.org
SUMMARY:The Project- Young Adult Small Group Bible Study
DESCRIPTION:JOIN US FOR “THE PROJECT” IN 2025\n\n\n\n\n\n\n\n\n\n\n\n\n\n\n\nYoung Adult Small Group Bible Study \nIn person 2nd and 4th Tuesdays at 7pm \nPlease click the link below to purchase your Bible Study workbook: \nFascinating Bible Studies on Every Parable \nand Great Characters of the Bible
URL:https://hopewellnortheast.org/event/the-project-young-adult-small-group-bible-study-3/
LOCATION:Ministry House\, 320 Ozora Rd.\, Loganville\, 30052\, United States
END:VEVENT
BEGIN:VEVENT
DTSTART;TZID=America/New_York:20250409T190000
DTEND;TZID=America/New_York:20250409T200000
DTSTAMP:20260420T023727
CREATED:20250324T204948Z
LAST-MODIFIED:20250402T210006Z
UID:24446-1744225200-1744228800@hopewellnortheast.org
SUMMARY:Wednesday Night Bible Study
DESCRIPTION:Join us for bible study tonight at 7pm. \nAs God showers us with blessings in April\, \nPray Until Something Happens… \nPersist Until Something Happens… \nPresent Until Something Happens… \nPassionate Until Something Happens… \nPress Until Something Happens… \nPersevere Until Something Happens…
URL:https://hopewellnortheast.org/event/wednesday-night-bible-study-2/
LOCATION:Hopewell North East\, 2685 Camp Mitchell Rd\, Grayson\, GA\, 30017\, United States
ATTACH;FMTTYPE=image/jpeg:https://hopewellnortheast.org/wp-content/uploads/2025/03/April-Showers-2025.jpg
END:VEVENT
BEGIN:VEVENT
DTSTART;TZID=America/New_York:20250413T085500
DTEND;TZID=America/New_York:20250413T090000
DTSTAMP:20260420T023727
CREATED:20250413T105235Z
LAST-MODIFIED:20250413T105235Z
UID:24629-1744534500-1744534800@hopewellnortheast.org
SUMMARY:Baptism
DESCRIPTION:HNE Family \nHello and God Bless! \nPlease join us for baptism this Sunday\, April 13\, 2025 at 9:00 AM. \nPlease contact us: info@hopewellnortheast.org if you desire to be baptized.
URL:https://hopewellnortheast.org/event/baptism-2/
LOCATION:Hopewell North East\, 2685 Camp Mitchell Rd\, Grayson\, GA\, 30017\, United States
ATTACH;FMTTYPE=image/jpeg:https://hopewellnortheast.org/wp-content/uploads/2025/03/Baptism.jpg
END:VEVENT
BEGIN:VEVENT
DTSTART;TZID=America/New_York:20250413T090000
DTEND;TZID=America/New_York:20250413T094500
DTSTAMP:20260420T023727
CREATED:20250317T132634Z
LAST-MODIFIED:20250324T204433Z
UID:24419-1744534800-1744537500@hopewellnortheast.org
SUMMARY:Sunday School (All Ages)
DESCRIPTION:Thank you for considering visiting our church!\n\n\n\n\n\n\n\n\n\n\n\n\nWe are excited to welcome you. Join us on Sundays for a memorable experience.
URL:https://hopewellnortheast.org/event/sunday-school-all-ages-7/
LOCATION:Hopewell North East\, 2685 Camp Mitchell Rd\, Grayson\, GA\, 30017\, United States
ATTACH;FMTTYPE=image/jpeg:https://hopewellnortheast.org/wp-content/uploads/2025/03/Sunday-School.jpg
END:VEVENT
BEGIN:VEVENT
DTSTART;TZID=America/New_York:20250413T100000
DTEND;TZID=America/New_York:20250413T113000
DTSTAMP:20260420T023727
CREATED:20250317T132748Z
LAST-MODIFIED:20250413T105534Z
UID:24421-1744538400-1744543800@hopewellnortheast.org
SUMMARY:Worship Service\, Nursery\, Youth Church
DESCRIPTION:Thank you for considering visiting our church!\n\n\n\n\n\n\n\n\n\n\n\n\nWe are excited to welcome you. Join us on Sundays for a memorable experience.
URL:https://hopewellnortheast.org/event/worship-service-nursery-youth-church-7/
LOCATION:Hopewell North East\, 2685 Camp Mitchell Rd\, Grayson\, GA\, 30017\, United States
ATTACH;FMTTYPE=image/jpeg:https://hopewellnortheast.org/wp-content/uploads/2025/03/Palm-Sunday-2025.jpg
END:VEVENT
BEGIN:VEVENT
DTSTART;TZID=America/New_York:20250415T120000
DTEND;TZID=America/New_York:20250415T130000
DTSTAMP:20260420T023727
CREATED:20250316T213150Z
LAST-MODIFIED:20250316T213150Z
UID:24407-1744718400-1744722000@hopewellnortheast.org
SUMMARY:Noonday Bible Study
DESCRIPTION:TUESDAY \nIn person Noonday Bible Study every Tuesday at 12pm \nPlease click the link below to purchase your Tuesday Noonday Bible Study book: \n Romans: Becoming New In Christ: 19 Studies in 2 Parts
URL:https://hopewellnortheast.org/event/noonday-bible-study-7/
LOCATION:Hopewell North East\, 2685 Camp Mitchell Rd\, Grayson\, GA\, 30017\, United States
ATTACH;FMTTYPE=image/jpeg:https://hopewellnortheast.org/wp-content/uploads/2025/03/Bible-Study.jpg
END:VEVENT
BEGIN:VEVENT
DTSTART;TZID=America/New_York:20250416T190000
DTEND;TZID=America/New_York:20250416T200000
DTSTAMP:20260420T023727
CREATED:20250324T205032Z
LAST-MODIFIED:20250402T210317Z
UID:24448-1744830000-1744833600@hopewellnortheast.org
SUMMARY:Wednesday Night Bible Study
DESCRIPTION:Join us for bible study tonight at 7pm. \nAs God showers us with blessings in April\, \nPray Until Something Happens… \nPersist Until Something Happens… \nPresent Until Something Happens… \nPassionate Until Something Happens… \nPress Until Something Happens… \nPersevere Until Something Happens…
URL:https://hopewellnortheast.org/event/wednesday-night-bible-study-3/
LOCATION:Hopewell North East\, 2685 Camp Mitchell Rd\, Grayson\, GA\, 30017\, United States
ATTACH;FMTTYPE=image/jpeg:https://hopewellnortheast.org/wp-content/uploads/2025/03/April-Showers-2025.jpg
END:VEVENT
BEGIN:VEVENT
DTSTART;TZID=America/New_York:20250418T120000
DTEND;TZID=America/New_York:20250418T133000
DTSTAMP:20260420T023727
CREATED:20250409T204853Z
LAST-MODIFIED:20250409T204853Z
UID:24623-1744977600-1744983000@hopewellnortheast.org
SUMMARY:Good Friday Service
DESCRIPTION:Please join us in the sanctuary for our \nGood Friday Service \nFriday\, April 18\, 2025 \n12:00 PM\, Noon
URL:https://hopewellnortheast.org/event/good-friday-service/
LOCATION:Hopewell North East\, 2685 Camp Mitchell Rd\, Grayson\, GA\, 30017\, United States
ATTACH;FMTTYPE=image/jpeg:https://hopewellnortheast.org/wp-content/uploads/2025/04/Good-Friday-2025.jpg
END:VEVENT
BEGIN:VEVENT
DTSTART;TZID=UTC:20250419T090000
DTEND;TZID=UTC:20250419T123000
DTSTAMP:20260420T023727
CREATED:20250415T110705Z
LAST-MODIFIED:20250415T110705Z
UID:24632-1745053200-1745065800@hopewellnortheast.org
SUMMARY:New Member Orientation
DESCRIPTION:If you have not taken or completed your new member classes\, please join us in person: \nWhere: Ministry House\, April 19\, 2025 \nTime: 9:00 a.m. until 12:30 p.m. \nPlease view the schedule below. If you have taken some classes and need to complete others\, join us during the classes missed. \nSaturday\, April 19\, 2025 (In Person) \nWe will open with prayer at 9:00 a.m. Classes will begin promptly at 9:15 a.m. \n9:00 a.m. – Welcome & Opening Prayer \n9:15 a.m. – Learning to Pray \n9:45 a.m. – Assurance of Salvation \n10:15 a.m. – A Victory / Spirit Filled Life \n10:45 a.m. – BREAK \n11:00 a.m. – Tithing & Stewardship \n11:30 a.m. – Church Discipline \n12:30 p.m. – Session Ends \n\nFor Linked In Classes the Zoom link will be emailed the week of the class. The following classes will be held from 7:00 p.m. – 8:30 p.m. on Thursdays via Zoom. \nFrom Membership: I am a Church Member\nThursday\, April 24\, 2025\, 7:00 p.m. – 8:30 p.m.\, via zoom \nTo Discipleship: Summary of D1-D4 curriculum\nThursday\, May 1\, 2025\, 7:00 p.m. – 8:30 p.m.\, via zoom \nStewardship: I Serve\nThursday\, May 8\, 2025\, 7:00 p.m. – 8:30 p.m.\, via zoom \nSpiritual Discipline\nThursday\, May 15\, 2025\, 7:00 p.m. – 8:30 p.m.\, via zoom
URL:https://hopewellnortheast.org/event/new-member-orientation/
LOCATION:Ministry House\, 320 Ozora Rd.\, Loganville\, 30052\, United States
END:VEVENT
BEGIN:VEVENT
DTSTART;TZID=America/New_York:20250420T080000
DTEND;TZID=America/New_York:20250420T113000
DTSTAMP:20260420T023727
CREATED:20250317T132926Z
LAST-MODIFIED:20250402T211129Z
UID:24425-1745136000-1745148600@hopewellnortheast.org
SUMMARY:Worship Service\, Nursery\, Youth Church
DESCRIPTION:Thank you for considering visiting our church!\n\n\n\n\n\n\n\n\n\n\n\n\nFor Ressurection Sunday\, there will be 2 services (8:00 AM & 10:00 AM). \nThere will be no Sunday School on Ressurection Sunday. \nYouth Church will be held during the 10:00 AM service only. \nThe HNE EXCITE Youth Ministry will have Ressurection Sunday activities \nfor all who attend! \nThe Nursery will be open for the 10:00 AM service only.
URL:https://hopewellnortheast.org/event/worship-service-nursery-youth-church-8/
LOCATION:Hopewell North East\, 2685 Camp Mitchell Rd\, Grayson\, GA\, 30017\, United States
ATTACH;FMTTYPE=image/jpeg:https://hopewellnortheast.org/wp-content/uploads/2025/03/Ressurection-Sunday-2025.jpg
END:VEVENT
BEGIN:VEVENT
DTSTART;TZID=America/New_York:20250422T120000
DTEND;TZID=America/New_York:20250422T130000
DTSTAMP:20260420T023727
CREATED:20250316T213250Z
LAST-MODIFIED:20250316T213250Z
UID:24409-1745323200-1745326800@hopewellnortheast.org
SUMMARY:Noonday Bible Study
DESCRIPTION:TUESDAY \nIn person Noonday Bible Study every Tuesday at 12pm \nPlease click the link below to purchase your Tuesday Noonday Bible Study book: \n Romans: Becoming New In Christ: 19 Studies in 2 Parts
URL:https://hopewellnortheast.org/event/noonday-bible-study-8/
LOCATION:Hopewell North East\, 2685 Camp Mitchell Rd\, Grayson\, GA\, 30017\, United States
ATTACH;FMTTYPE=image/jpeg:https://hopewellnortheast.org/wp-content/uploads/2025/03/Bible-Study.jpg
END:VEVENT
BEGIN:VEVENT
DTSTART;TZID=America/New_York:20250422T190000
DTEND;TZID=America/New_York:20250422T200000
DTSTAMP:20260420T023727
CREATED:20250316T212925Z
LAST-MODIFIED:20250316T212925Z
UID:24403-1745348400-1745352000@hopewellnortheast.org
SUMMARY:The Project- Young Adult Small Group Bible Study
DESCRIPTION:JOIN US FOR “THE PROJECT” IN 2025\n\n\n\n\n\n\n\n\n\n\n\n\n\n\n\nYoung Adult Small Group Bible Study \nIn person 2nd and 4th Tuesdays at 7pm \nPlease click the link below to purchase your Bible Study workbook: \nFascinating Bible Studies on Every Parable \nand Great Characters of the Bible
URL:https://hopewellnortheast.org/event/the-project-young-adult-small-group-bible-study-4/
LOCATION:Ministry House\, 320 Ozora Rd.\, Loganville\, 30052\, United States
END:VEVENT
END:VCALENDAR