BEGIN:VCALENDAR
VERSION:2.0
PRODID:-//Hopewell North East - ECPv6.15.20//NONSGML v1.0//EN
CALSCALE:GREGORIAN
METHOD:PUBLISH
X-WR-CALNAME:Hopewell North East
X-ORIGINAL-URL:https://hopewellnortheast.org
X-WR-CALDESC:Events for Hopewell North East
REFRESH-INTERVAL;VALUE=DURATION:PT1H
X-Robots-Tag:noindex
X-PUBLISHED-TTL:PT1H
BEGIN:VTIMEZONE
TZID:America/New_York
BEGIN:DAYLIGHT
TZOFFSETFROM:-0500
TZOFFSETTO:-0400
TZNAME:EDT
DTSTART:20240310T070000
END:DAYLIGHT
BEGIN:STANDARD
TZOFFSETFROM:-0400
TZOFFSETTO:-0500
TZNAME:EST
DTSTART:20241103T060000
END:STANDARD
BEGIN:DAYLIGHT
TZOFFSETFROM:-0500
TZOFFSETTO:-0400
TZNAME:EDT
DTSTART:20250309T070000
END:DAYLIGHT
BEGIN:STANDARD
TZOFFSETFROM:-0400
TZOFFSETTO:-0500
TZNAME:EST
DTSTART:20251102T060000
END:STANDARD
BEGIN:DAYLIGHT
TZOFFSETFROM:-0500
TZOFFSETTO:-0400
TZNAME:EDT
DTSTART:20260308T070000
END:DAYLIGHT
BEGIN:STANDARD
TZOFFSETFROM:-0400
TZOFFSETTO:-0500
TZNAME:EST
DTSTART:20261101T060000
END:STANDARD
END:VTIMEZONE
BEGIN:VEVENT
DTSTART;TZID=America/New_York:20250622T081500
DTEND;TZID=America/New_York:20250622T095000
DTSTAMP:20260420T023159
CREATED:20250529T005724Z
LAST-MODIFIED:20250529T005724Z
UID:24776-1750580100-1750585800@hopewellnortheast.org
SUMMARY:GriefShare
DESCRIPTION:GriefShare is offered at Hopewell North East. \nGriefShare is a Christ-centered program that helps people apply biblical principles as they deal with the emotions and life stresses following the death of a loved one. \nClasses are held Sundays 8:15 am to 9:50 am. \nIf you would like to register for this class\, please send an email to info@hopewellnortheast.org \nto receive the registration link. \nThe cost of the program is $20 to cover your book. \nReminder \nPlease email us at \ninfo@hopewellnortheast.org \nto receive the link.
URL:https://hopewellnortheast.org/event/griefshare-15/
LOCATION:Hopewell North East\, 2685 Camp Mitchell Rd\, Grayson\, GA\, 30017\, United States
ATTACH;FMTTYPE=image/jpeg:https://hopewellnortheast.org/wp-content/uploads/2025/03/GriefShare.jpg
END:VEVENT
BEGIN:VEVENT
DTSTART;TZID=America/New_York:20250622T090000
DTEND;TZID=America/New_York:20250622T094500
DTSTAMP:20260420T023159
CREATED:20250529T005818Z
LAST-MODIFIED:20250529T005818Z
UID:24778-1750582800-1750585500@hopewellnortheast.org
SUMMARY:Sunday School (All Ages)
DESCRIPTION:Thank you for considering visiting our church!\n\n\n\n\n\n\n\n\n\n\n\n\nWe are excited to welcome you. Join us on Sundays for a memorable experience.
URL:https://hopewellnortheast.org/event/sunday-school-all-ages-16/
LOCATION:Hopewell North East\, 2685 Camp Mitchell Rd\, Grayson\, GA\, 30017\, United States
ATTACH;FMTTYPE=image/jpeg:https://hopewellnortheast.org/wp-content/uploads/2025/03/Sunday-School.jpg
END:VEVENT
BEGIN:VEVENT
DTSTART;TZID=America/New_York:20250622T100000
DTEND;TZID=America/New_York:20250622T113000
DTSTAMP:20260420T023159
CREATED:20250529T010028Z
LAST-MODIFIED:20250529T010028Z
UID:24780-1750586400-1750591800@hopewellnortheast.org
SUMMARY:Worship Service\, Nursery\, Youth Church
DESCRIPTION:Thank you for considering visiting our church!\n\n\n\n\n\n\n\n\n\n\n\n\nWe are excited to welcome you. Join us on Sundays for a memorable experience.
URL:https://hopewellnortheast.org/event/worship-service-nursery-youth-church-17/
LOCATION:Hopewell North East\, 2685 Camp Mitchell Rd\, Grayson\, GA\, 30017\, United States
ATTACH;FMTTYPE=image/jpeg:https://hopewellnortheast.org/wp-content/uploads/2025/03/Sunday-Service-scaled.jpg
END:VEVENT
BEGIN:VEVENT
DTSTART;TZID=America/New_York:20250622T180000
DTEND;TZID=America/New_York:20250622T190000
DTSTAMP:20260420T023159
CREATED:20250529T003513Z
LAST-MODIFIED:20250615T172746Z
UID:24756-1750615200-1750618800@hopewellnortheast.org
SUMMARY:Marriage Ministry Prayer Line
DESCRIPTION:Marriage Ministry Prayer Line \nJoin us for our Marriage Ministry Prayer Line. \nIt is available for all married and engaged couples! \nPrayer Line Phone Number: (339) 207-7200 \nWhen: Normally every 1st and 3rd Sunday evening at 6:00 PM.  CHANGED TO 4TH SUNDAY DUE TO FATHER’S DAY \nGather our hearts and let’s pray unto the Lord.
URL:https://hopewellnortheast.org/event/marriage-ministry-prayer-line-8/
LOCATION:Dial-In\, United States
ATTACH;FMTTYPE=image/jpeg:https://hopewellnortheast.org/wp-content/uploads/2025/04/Marriage-Ministry2.jpg
END:VEVENT
BEGIN:VEVENT
DTSTART;TZID=America/New_York:20250623T180000
DTEND;TZID=America/New_York:20250623T203000
DTSTAMP:20260420T023159
CREATED:20250604T194220Z
LAST-MODIFIED:20250604T194220Z
UID:24800-1750701600-1750710600@hopewellnortheast.org
SUMMARY:Vacation Bible School
DESCRIPTION:Join Us for Vacation Bible School! \nThe Jesus Connection — Downloads from Heaven \nJune 23–25\, 2025 6:00 PM – 8:30 PM \nHopewell North East Baptist Church \nGet plugged in to the ultimate source! \nWe invite you and your entire family to join us for three exciting nights of VBS filled with interactive lessons\, uplifting music\, creative crafts\, games\, and fun fellowship — all centered around The Jesus Connection: Downloads from Heaven. \nJust like we download apps for daily life\, this week we’ll download spiritual tools that strengthen our connection to Christ! \nThere’s a class for everyone — children\, youth\, and adults. \nLet’s grow together and receive everything God has for us! \nWe can’t wait to see you there!
URL:https://hopewellnortheast.org/event/vacation-bible-school/
LOCATION:Hopewell North East\, 2685 Camp Mitchell Rd\, Grayson\, GA\, 30017\, United States
ATTACH;FMTTYPE=image/jpeg:https://hopewellnortheast.org/wp-content/uploads/2025/06/VBS_2025.jpg
END:VEVENT
BEGIN:VEVENT
DTSTART;TZID=America/New_York:20250624T180000
DTEND;TZID=America/New_York:20250624T203000
DTSTAMP:20260420T023159
CREATED:20250604T194359Z
LAST-MODIFIED:20250604T194359Z
UID:24803-1750788000-1750797000@hopewellnortheast.org
SUMMARY:Vacation Bible School
DESCRIPTION:Join Us for Vacation Bible School! \nThe Jesus Connection — Downloads from Heaven \nJune 23–25\, 2025 6:00 PM – 8:30 PM \nHopewell North East Baptist Church \nGet plugged in to the ultimate source! \nWe invite you and your entire family to join us for three exciting nights of VBS filled with interactive lessons\, uplifting music\, creative crafts\, games\, and fun fellowship — all centered around The Jesus Connection: Downloads from Heaven. \nJust like we download apps for daily life\, this week we’ll download spiritual tools that strengthen our connection to Christ! \nThere’s a class for everyone — children\, youth\, and adults. \nLet’s grow together and receive everything God has for us! \nWe can’t wait to see you there!
URL:https://hopewellnortheast.org/event/vacation-bible-school-2/
LOCATION:Hopewell North East\, 2685 Camp Mitchell Rd\, Grayson\, GA\, 30017\, United States
ATTACH;FMTTYPE=image/jpeg:https://hopewellnortheast.org/wp-content/uploads/2025/06/VBS_2025.jpg
END:VEVENT
BEGIN:VEVENT
DTSTART;TZID=America/New_York:20250624T190000
DTEND;TZID=America/New_York:20250624T200000
DTSTAMP:20260420T023159
CREATED:20250529T004614Z
LAST-MODIFIED:20250529T004614Z
UID:24762-1750791600-1750795200@hopewellnortheast.org
SUMMARY:The Project- Young Adult Small Group Bible Study
DESCRIPTION:JOIN US FOR “THE PROJECT” IN 2025\n\n\n\n\n\n\n\n\n\n\n\n\n\n\n\nYoung Adult Small Group Bible Study \nIn person 2nd and 4th Tuesdays at 7pm \nPlease click the link below to purchase your Bible Study workbook: \nFascinating Bible Studies on Every Parable \nand Great Characters of the Bible
URL:https://hopewellnortheast.org/event/the-project-young-adult-small-group-bible-study-6/
LOCATION:Ministry House\, 320 Ozora Rd.\, Loganville\, 30052\, United States
END:VEVENT
BEGIN:VEVENT
DTSTART;TZID=America/New_York:20250625T180000
DTEND;TZID=America/New_York:20250625T203000
DTSTAMP:20260420T023159
CREATED:20250604T194449Z
LAST-MODIFIED:20250604T194449Z
UID:24805-1750874400-1750883400@hopewellnortheast.org
SUMMARY:Vacation Bible School
DESCRIPTION:Join Us for Vacation Bible School! \nThe Jesus Connection — Downloads from Heaven \nJune 23–25\, 2025 6:00 PM – 8:30 PM \nHopewell North East Baptist Church \nGet plugged in to the ultimate source! \nWe invite you and your entire family to join us for three exciting nights of VBS filled with interactive lessons\, uplifting music\, creative crafts\, games\, and fun fellowship — all centered around The Jesus Connection: Downloads from Heaven. \nJust like we download apps for daily life\, this week we’ll download spiritual tools that strengthen our connection to Christ! \nThere’s a class for everyone — children\, youth\, and adults. \nLet’s grow together and receive everything God has for us! \nWe can’t wait to see you there!
URL:https://hopewellnortheast.org/event/vacation-bible-school-3/
LOCATION:Hopewell North East\, 2685 Camp Mitchell Rd\, Grayson\, GA\, 30017\, United States
ATTACH;FMTTYPE=image/jpeg:https://hopewellnortheast.org/wp-content/uploads/2025/06/VBS_2025.jpg
END:VEVENT
BEGIN:VEVENT
DTSTART;TZID=America/New_York:20250629T081500
DTEND;TZID=America/New_York:20250629T095000
DTSTAMP:20260420T023159
CREATED:20250529T010257Z
LAST-MODIFIED:20250529T010257Z
UID:24782-1751184900-1751190600@hopewellnortheast.org
SUMMARY:GriefShare
DESCRIPTION:GriefShare is offered at Hopewell North East. \nGriefShare is a Christ-centered program that helps people apply biblical principles as they deal with the emotions and life stresses following the death of a loved one. \nClasses are held Sundays 8:15 am to 9:50 am. \nIf you would like to register for this class\, please send an email to info@hopewellnortheast.org \nto receive the registration link. \nThe cost of the program is $20 to cover your book. \nReminder \nPlease email us at \ninfo@hopewellnortheast.org \nto receive the link.
URL:https://hopewellnortheast.org/event/griefshare-16/
LOCATION:Hopewell North East\, 2685 Camp Mitchell Rd\, Grayson\, GA\, 30017\, United States
ATTACH;FMTTYPE=image/jpeg:https://hopewellnortheast.org/wp-content/uploads/2025/03/GriefShare.jpg
END:VEVENT
BEGIN:VEVENT
DTSTART;TZID=America/New_York:20250629T090000
DTEND;TZID=America/New_York:20250629T094500
DTSTAMP:20260420T023159
CREATED:20250529T010325Z
LAST-MODIFIED:20250529T010325Z
UID:24784-1751187600-1751190300@hopewellnortheast.org
SUMMARY:Sunday School (All Ages)
DESCRIPTION:Thank you for considering visiting our church!\n\n\n\n\n\n\n\n\n\n\n\n\nWe are excited to welcome you. Join us on Sundays for a memorable experience.
URL:https://hopewellnortheast.org/event/sunday-school-all-ages-17/
LOCATION:Hopewell North East\, 2685 Camp Mitchell Rd\, Grayson\, GA\, 30017\, United States
ATTACH;FMTTYPE=image/jpeg:https://hopewellnortheast.org/wp-content/uploads/2025/03/Sunday-School.jpg
END:VEVENT
BEGIN:VEVENT
DTSTART;TZID=America/New_York:20250629T100000
DTEND;TZID=America/New_York:20250629T113000
DTSTAMP:20260420T023159
CREATED:20250529T010357Z
LAST-MODIFIED:20250529T010357Z
UID:24786-1751191200-1751196600@hopewellnortheast.org
SUMMARY:Worship Service\, Nursery\, Youth Church
DESCRIPTION:Thank you for considering visiting our church!\n\n\n\n\n\n\n\n\n\n\n\n\nWe are excited to welcome you. Join us on Sundays for a memorable experience.
URL:https://hopewellnortheast.org/event/worship-service-nursery-youth-church-18/
LOCATION:Hopewell North East\, 2685 Camp Mitchell Rd\, Grayson\, GA\, 30017\, United States
ATTACH;FMTTYPE=image/jpeg:https://hopewellnortheast.org/wp-content/uploads/2025/03/Sunday-Service-scaled.jpg
END:VEVENT
BEGIN:VEVENT
DTSTART;TZID=America/New_York:20250701T120000
DTEND;TZID=America/New_York:20250701T130000
DTSTAMP:20260420T023159
CREATED:20250629T174319Z
LAST-MODIFIED:20250629T174801Z
UID:24841-1751371200-1751374800@hopewellnortheast.org
SUMMARY:"NO" - Noonday Bible Study Today
DESCRIPTION:THERE WILL BE NO NOON DAY BIBLE STUDY THIS WEEK \nIn person Noonday Bible Study every Tuesday at 12pm \nPlease click the link below to purchase your Tuesday Noonday Bible Study book: \n Romans: Becoming New In Christ: 19 Studies in 2 Parts
URL:https://hopewellnortheast.org/event/no-noonday-bible-study/
LOCATION:Hopewell North East\, 2685 Camp Mitchell Rd\, Grayson\, GA\, 30017\, United States
ATTACH;FMTTYPE=image/jpeg:https://hopewellnortheast.org/wp-content/uploads/2025/03/Bible-Study.jpg
END:VEVENT
BEGIN:VEVENT
DTSTART;TZID=America/New_York:20250702T190000
DTEND;TZID=America/New_York:20250702T200000
DTSTAMP:20260420T023159
CREATED:20250629T174648Z
LAST-MODIFIED:20250629T174648Z
UID:24843-1751482800-1751486400@hopewellnortheast.org
SUMMARY:"NO" - Wednesday Night Bible Study Tonight
DESCRIPTION:THERE WILL BE NO WEDNESDAY NIGHT BIBLE STUDY THIS WEEK \nJoin us for bible study tonight at 7pm. \nPray Until Something Happens… \nPersist Until Something Happens… \nPresent Until Something Happens… \nPassionate Until Something Happens… \nPress Until Something Happens… \nPersevere Until Something Happens…
URL:https://hopewellnortheast.org/event/no-wednesday-night-bible-study-tonight/
LOCATION:Hopewell North East\, 2685 Camp Mitchell Rd\, Grayson\, GA\, 30017\, United States
ATTACH;FMTTYPE=image/jpeg:https://hopewellnortheast.org/wp-content/uploads/2025/05/Wednesday-Night-Bible-Study_June-2025.jpg
END:VEVENT
BEGIN:VEVENT
DTSTART;TZID=America/New_York:20250702T190000
DTEND;TZID=America/New_York:20250702T200000
DTSTAMP:20260420T023159
CREATED:20250629T175034Z
LAST-MODIFIED:20250629T175220Z
UID:24846-1751482800-1751486400@hopewellnortheast.org
SUMMARY:"NO" - Dissertation Tonight
DESCRIPTION:Dissertation will resume next Wednesday at 7pm.
URL:https://hopewellnortheast.org/event/no-dissertation-tonight-2/
LOCATION:Hopewell North East\, 2685 Camp Mitchell Rd\, Grayson\, GA\, 30017\, United States
END:VEVENT
BEGIN:VEVENT
DTSTART;TZID=America/New_York:20250706T081500
DTEND;TZID=America/New_York:20250706T095000
DTSTAMP:20260420T023159
CREATED:20250629T101412Z
LAST-MODIFIED:20250629T101412Z
UID:24819-1751789700-1751795400@hopewellnortheast.org
SUMMARY:GriefShare
DESCRIPTION:GriefShare is offered at Hopewell North East. \nGriefShare is a Christ-centered program that helps people apply biblical principles as they deal with the emotions and life stresses following the death of a loved one. \nClasses are held Sundays 8:15 am to 9:50 am. \nIf you would like to register for this class\, please send an email to info@hopewellnortheast.org \nto receive the registration link. \nThe cost of the program is $20 to cover your book. \nReminder \nPlease email us at \ninfo@hopewellnortheast.org \nto receive the link.
URL:https://hopewellnortheast.org/event/griefshare-17/
LOCATION:Hopewell North East\, 2685 Camp Mitchell Rd\, Grayson\, GA\, 30017\, United States
ATTACH;FMTTYPE=image/jpeg:https://hopewellnortheast.org/wp-content/uploads/2025/03/GriefShare.jpg
END:VEVENT
BEGIN:VEVENT
DTSTART;TZID=America/New_York:20250706T090000
DTEND;TZID=America/New_York:20250706T094500
DTSTAMP:20260420T023159
CREATED:20250629T101902Z
LAST-MODIFIED:20250629T101902Z
UID:24827-1751792400-1751795100@hopewellnortheast.org
SUMMARY:Sunday School (All Ages)
DESCRIPTION:Thank you for considering visiting our church!\n\n\n\n\n\n\n\n\n\n\n\n\nWe are excited to welcome you. Join us on Sundays for a memorable experience.
URL:https://hopewellnortheast.org/event/sunday-school-all-ages-18/
LOCATION:Hopewell North East\, 2685 Camp Mitchell Rd\, Grayson\, GA\, 30017\, United States
ATTACH;FMTTYPE=image/jpeg:https://hopewellnortheast.org/wp-content/uploads/2025/03/Sunday-School.jpg
END:VEVENT
BEGIN:VEVENT
DTSTART;TZID=America/New_York:20250706T100000
DTEND;TZID=America/New_York:20250706T113000
DTSTAMP:20260420T023159
CREATED:20250629T100938Z
LAST-MODIFIED:20250629T100938Z
UID:24811-1751796000-1751801400@hopewellnortheast.org
SUMMARY:Worship Service\, Nursery\, Youth Church
DESCRIPTION:Thank you for considering visiting our church!\n\n\n\n\n\n\n\n\n\n\n\n\nWe are excited to welcome you. Join us on Sundays for a memorable experience.
URL:https://hopewellnortheast.org/event/worship-service-nursery-youth-church-19/
LOCATION:Hopewell North East\, 2685 Camp Mitchell Rd\, Grayson\, GA\, 30017\, United States
ATTACH;FMTTYPE=image/jpeg:https://hopewellnortheast.org/wp-content/uploads/2025/03/Sunday-Service-scaled.jpg
END:VEVENT
BEGIN:VEVENT
DTSTART;TZID=America/New_York:20250706T180000
DTEND;TZID=America/New_York:20250706T190000
DTSTAMP:20260420T023159
CREATED:20250702T224439Z
LAST-MODIFIED:20250704T133421Z
UID:24890-1751824800-1751828400@hopewellnortheast.org
SUMMARY:"NO" - Marriage Ministry Prayer Line Today
DESCRIPTION:Marriage Ministry Prayer Line will resume on July 20\, 2025 \nJoin us for our Marriage Ministry Prayer Line. \nIt is available for all married and engaged couples! \nPrayer Line Phone Number: (339) 207-7200 \nWhen: Normally every 1st and 3rd Sunday evening at 6:00 PM. \nGather our hearts and let’s pray unto the Lord.
URL:https://hopewellnortheast.org/event/marriage-ministry-prayer-line-10/
LOCATION:Dial-In\, United States
ATTACH;FMTTYPE=image/jpeg:https://hopewellnortheast.org/wp-content/uploads/2025/07/Marriage-Ministry-July-Pause.jpg
END:VEVENT
BEGIN:VEVENT
DTSTART;TZID=America/New_York:20250708T120000
DTEND;TZID=America/New_York:20250708T130000
DTSTAMP:20260420T023159
CREATED:20250629T173832Z
LAST-MODIFIED:20250702T223253Z
UID:24837-1751976000-1751979600@hopewellnortheast.org
SUMMARY:Noonday Bible Study
DESCRIPTION:TUESDAY \nIn person Noonday Bible Study every Tuesday at 12pm \nPlease click the link below to purchase your Tuesday Noonday Bible Study book: \nEvangelism: A Way of Life (LifeGuide Bible Studies)
URL:https://hopewellnortheast.org/event/noonday-bible-study-15/
LOCATION:Hopewell North East\, 2685 Camp Mitchell Rd\, Grayson\, GA\, 30017\, United States
ATTACH;FMTTYPE=image/jpeg:https://hopewellnortheast.org/wp-content/uploads/2025/03/Bible-Study.jpg
END:VEVENT
BEGIN:VEVENT
DTSTART;TZID=America/New_York:20250708T190000
DTEND;TZID=America/New_York:20250708T200000
DTSTAMP:20260420T023159
CREATED:20250629T173720Z
LAST-MODIFIED:20250629T173720Z
UID:24835-1752001200-1752004800@hopewellnortheast.org
SUMMARY:The Project- Young Adult Small Group Bible Study
DESCRIPTION:JOIN US FOR “THE PROJECT” IN 2025\n\n\n\n\n\n\n\n\n\n\n\n\n\n\n\nYoung Adult Small Group Bible Study \nIn person 2nd and 4th Tuesdays at 7pm \nPlease click the link below to purchase your Bible Study workbook: \nFascinating Bible Studies on Every Parable \nand Great Characters of the Bible
URL:https://hopewellnortheast.org/event/the-project-young-adult-small-group-bible-study-8/
LOCATION:Ministry House\, 320 Ozora Rd.\, Loganville\, 30052\, United States
END:VEVENT
BEGIN:VEVENT
DTSTART;TZID=America/New_York:20250709T190000
DTEND;TZID=America/New_York:20250709T200000
DTSTAMP:20260420T023159
CREATED:20250629T173957Z
LAST-MODIFIED:20250709T205604Z
UID:24839-1752087600-1752091200@hopewellnortheast.org
SUMMARY:Wednesday Night Bible Study
DESCRIPTION:Join us for bible study tonight at 7pm. \nPray Until Something Happens… \nPersist Until Something Happens… \nPresent Until Something Happens… \nPassionate Until Something Happens… \nPress Until Something Happens… \nPersevere Until Something Happens…
URL:https://hopewellnortheast.org/event/wednesday-night-bible-study-14/
LOCATION:Hopewell North East\, 2685 Camp Mitchell Rd\, Grayson\, GA\, 30017\, United States
ATTACH;FMTTYPE=image/jpeg:https://hopewellnortheast.org/wp-content/uploads/2025/06/Spritual-Reset-2025.jpg
END:VEVENT
BEGIN:VEVENT
DTSTART;TZID=America/New_York:20250709T190000
DTEND;TZID=America/New_York:20250709T200000
DTSTAMP:20260420T023159
CREATED:20250702T020624Z
LAST-MODIFIED:20250702T020624Z
UID:24868-1752087600-1752091200@hopewellnortheast.org
SUMMARY:Dissertation
DESCRIPTION:Parents please bring your youth out to join Dissertation. \nFor Youth in 5th – 12th grade. \nDissertation is a creative way for young boys to learn and recite scripture. \nDissertation meets every Wednesday at 7pm.
URL:https://hopewellnortheast.org/event/dissertation-6/
LOCATION:Hopewell North East\, 2685 Camp Mitchell Rd\, Grayson\, GA\, 30017\, United States
ATTACH;FMTTYPE=image/jpeg:https://hopewellnortheast.org/wp-content/uploads/2025/03/Dissertation.jpg
END:VEVENT
BEGIN:VEVENT
DTSTART;TZID=America/New_York:20250713T081500
DTEND;TZID=America/New_York:20250713T095000
DTSTAMP:20260420T023159
CREATED:20250629T101500Z
LAST-MODIFIED:20250629T101500Z
UID:24821-1752394500-1752400200@hopewellnortheast.org
SUMMARY:GriefShare
DESCRIPTION:GriefShare is offered at Hopewell North East. \nGriefShare is a Christ-centered program that helps people apply biblical principles as they deal with the emotions and life stresses following the death of a loved one. \nClasses are held Sundays 8:15 am to 9:50 am. \nIf you would like to register for this class\, please send an email to info@hopewellnortheast.org \nto receive the registration link. \nThe cost of the program is $20 to cover your book. \nReminder \nPlease email us at \ninfo@hopewellnortheast.org \nto receive the link.
URL:https://hopewellnortheast.org/event/griefshare-18/
LOCATION:Hopewell North East\, 2685 Camp Mitchell Rd\, Grayson\, GA\, 30017\, United States
ATTACH;FMTTYPE=image/jpeg:https://hopewellnortheast.org/wp-content/uploads/2025/03/GriefShare.jpg
END:VEVENT
BEGIN:VEVENT
DTSTART;TZID=America/New_York:20250713T084500
DTEND;TZID=America/New_York:20250713T090000
DTSTAMP:20260420T023159
CREATED:20250709T210150Z
LAST-MODIFIED:20250712T131925Z
UID:24897-1752396300-1752397200@hopewellnortheast.org
SUMMARY:Baptism
DESCRIPTION:HNE Family\, \nHello and God Bless! \nPlease join us for baptism this Sunday\, July 13\, 2025 at 8:45 am.
URL:https://hopewellnortheast.org/event/baptism-5/
LOCATION:Hopewell North East\, 2685 Camp Mitchell Rd\, Grayson\, GA\, 30017\, United States
ATTACH;FMTTYPE=image/jpeg:https://hopewellnortheast.org/wp-content/uploads/2025/03/Baptism.jpg
END:VEVENT
BEGIN:VEVENT
DTSTART;TZID=America/New_York:20250713T090000
DTEND;TZID=America/New_York:20250713T094500
DTSTAMP:20260420T023159
CREATED:20250629T101947Z
LAST-MODIFIED:20250629T101947Z
UID:24829-1752397200-1752399900@hopewellnortheast.org
SUMMARY:Sunday School (All Ages)
DESCRIPTION:Thank you for considering visiting our church!\n\n\n\n\n\n\n\n\n\n\n\n\nWe are excited to welcome you. Join us on Sundays for a memorable experience.
URL:https://hopewellnortheast.org/event/sunday-school-all-ages-19/
LOCATION:Hopewell North East\, 2685 Camp Mitchell Rd\, Grayson\, GA\, 30017\, United States
ATTACH;FMTTYPE=image/jpeg:https://hopewellnortheast.org/wp-content/uploads/2025/03/Sunday-School.jpg
END:VEVENT
BEGIN:VEVENT
DTSTART;TZID=America/New_York:20250713T100000
DTEND;TZID=America/New_York:20250713T113000
DTSTAMP:20260420T023159
CREATED:20250629T101027Z
LAST-MODIFIED:20250629T101027Z
UID:24813-1752400800-1752406200@hopewellnortheast.org
SUMMARY:Worship Service\, Nursery\, Youth Church
DESCRIPTION:Thank you for considering visiting our church!\n\n\n\n\n\n\n\n\n\n\n\n\nWe are excited to welcome you. Join us on Sundays for a memorable experience.
URL:https://hopewellnortheast.org/event/worship-service-nursery-youth-church-20/
LOCATION:Hopewell North East\, 2685 Camp Mitchell Rd\, Grayson\, GA\, 30017\, United States
ATTACH;FMTTYPE=image/jpeg:https://hopewellnortheast.org/wp-content/uploads/2025/03/Sunday-Service-scaled.jpg
END:VEVENT
BEGIN:VEVENT
DTSTART;TZID=America/New_York:20250715T120000
DTEND;TZID=America/New_York:20250715T130000
DTSTAMP:20260420T023159
CREATED:20250702T223728Z
LAST-MODIFIED:20250702T223728Z
UID:24884-1752580800-1752584400@hopewellnortheast.org
SUMMARY:Noonday Bible Study
DESCRIPTION:TUESDAY \nIn person Noonday Bible Study every Tuesday at 12pm \nPlease click the link below to purchase your Tuesday Noonday Bible Study book: \nEvangelism: A Way of Life (LifeGuide Bible Studies)
URL:https://hopewellnortheast.org/event/noonday-bible-study-18/
LOCATION:Hopewell North East\, 2685 Camp Mitchell Rd\, Grayson\, GA\, 30017\, United States
ATTACH;FMTTYPE=image/jpeg:https://hopewellnortheast.org/wp-content/uploads/2025/03/Bible-Study.jpg
END:VEVENT
BEGIN:VEVENT
DTSTART;TZID=America/New_York:20250716T190000
DTEND;TZID=America/New_York:20250716T200000
DTSTAMP:20260420T023159
CREATED:20250630T014310Z
LAST-MODIFIED:20250709T205659Z
UID:24862-1752692400-1752696000@hopewellnortheast.org
SUMMARY:Wednesday Night Bible Study
DESCRIPTION:Join us for bible study tonight at 7pm. \nPray Until Something Happens… \nPersist Until Something Happens… \nPresent Until Something Happens… \nPassionate Until Something Happens… \nPress Until Something Happens… \nPersevere Until Something Happens…
URL:https://hopewellnortheast.org/event/wednesday-night-bible-study-15/
LOCATION:Hopewell North East\, 2685 Camp Mitchell Rd\, Grayson\, GA\, 30017\, United States
ATTACH;FMTTYPE=image/jpeg:https://hopewellnortheast.org/wp-content/uploads/2025/06/Spritual-Reset-2025.jpg
END:VEVENT
BEGIN:VEVENT
DTSTART;TZID=America/New_York:20250716T190000
DTEND;TZID=America/New_York:20250716T200000
DTSTAMP:20260420T023159
CREATED:20250702T020733Z
LAST-MODIFIED:20250702T020733Z
UID:24870-1752692400-1752696000@hopewellnortheast.org
SUMMARY:Dissertation
DESCRIPTION:Parents please bring your youth out to join Dissertation. \nFor Youth in 5th – 12th grade. \nDissertation is a creative way for young boys to learn and recite scripture. \nDissertation meets every Wednesday at 7pm.
URL:https://hopewellnortheast.org/event/dissertation-7/
LOCATION:Hopewell North East\, 2685 Camp Mitchell Rd\, Grayson\, GA\, 30017\, United States
ATTACH;FMTTYPE=image/jpeg:https://hopewellnortheast.org/wp-content/uploads/2025/03/Dissertation.jpg
END:VEVENT
BEGIN:VEVENT
DTSTART;TZID=America/New_York:20250720T081500
DTEND;TZID=America/New_York:20250720T095000
DTSTAMP:20260420T023159
CREATED:20250629T101532Z
LAST-MODIFIED:20250629T101532Z
UID:24823-1752999300-1753005000@hopewellnortheast.org
SUMMARY:GriefShare
DESCRIPTION:GriefShare is offered at Hopewell North East. \nGriefShare is a Christ-centered program that helps people apply biblical principles as they deal with the emotions and life stresses following the death of a loved one. \nClasses are held Sundays 8:15 am to 9:50 am. \nIf you would like to register for this class\, please send an email to info@hopewellnortheast.org \nto receive the registration link. \nThe cost of the program is $20 to cover your book. \nReminder \nPlease email us at \ninfo@hopewellnortheast.org \nto receive the link.
URL:https://hopewellnortheast.org/event/griefshare-19/
LOCATION:Hopewell North East\, 2685 Camp Mitchell Rd\, Grayson\, GA\, 30017\, United States
ATTACH;FMTTYPE=image/jpeg:https://hopewellnortheast.org/wp-content/uploads/2025/03/GriefShare.jpg
END:VEVENT
END:VCALENDAR