BEGIN:VCALENDAR
VERSION:2.0
PRODID:-//Hopewell North East - ECPv6.15.20//NONSGML v1.0//EN
CALSCALE:GREGORIAN
METHOD:PUBLISH
X-ORIGINAL-URL:https://hopewellnortheast.org
X-WR-CALDESC:Events for Hopewell North East
REFRESH-INTERVAL;VALUE=DURATION:PT1H
X-Robots-Tag:noindex
X-PUBLISHED-TTL:PT1H
BEGIN:VTIMEZONE
TZID:America/New_York
BEGIN:DAYLIGHT
TZOFFSETFROM:-0500
TZOFFSETTO:-0400
TZNAME:EDT
DTSTART:20240310T070000
END:DAYLIGHT
BEGIN:STANDARD
TZOFFSETFROM:-0400
TZOFFSETTO:-0500
TZNAME:EST
DTSTART:20241103T060000
END:STANDARD
BEGIN:DAYLIGHT
TZOFFSETFROM:-0500
TZOFFSETTO:-0400
TZNAME:EDT
DTSTART:20250309T070000
END:DAYLIGHT
BEGIN:STANDARD
TZOFFSETFROM:-0400
TZOFFSETTO:-0500
TZNAME:EST
DTSTART:20251102T060000
END:STANDARD
BEGIN:DAYLIGHT
TZOFFSETFROM:-0500
TZOFFSETTO:-0400
TZNAME:EDT
DTSTART:20260308T070000
END:DAYLIGHT
BEGIN:STANDARD
TZOFFSETFROM:-0400
TZOFFSETTO:-0500
TZNAME:EST
DTSTART:20261101T060000
END:STANDARD
END:VTIMEZONE
BEGIN:VTIMEZONE
TZID:UTC
BEGIN:STANDARD
TZOFFSETFROM:+0000
TZOFFSETTO:+0000
TZNAME:UTC
DTSTART:20240101T000000
END:STANDARD
END:VTIMEZONE
BEGIN:VEVENT
DTSTART;TZID=America/New_York:20250720T180000
DTEND;TZID=America/New_York:20250720T190000
DTSTAMP:20260420T053459
CREATED:20250630T013024Z
LAST-MODIFIED:20250630T013024Z
UID:24848-1753034400-1753038000@hopewellnortheast.org
SUMMARY:Marriage Ministry Prayer Line
DESCRIPTION:Marriage Ministry Prayer Line \nJoin us for our Marriage Ministry Prayer Line. \nIt is available for all married and engaged couples! \nPrayer Line Phone Number: (339) 207-7200 \nWhen: Normally every 1st and 3rd Sunday evening at 6:00 PM. \nGather our hearts and let’s pray unto the Lord.
URL:https://hopewellnortheast.org/event/marriage-ministry-prayer-line-9/
LOCATION:Dial-In\, United States
ATTACH;FMTTYPE=image/jpeg:https://hopewellnortheast.org/wp-content/uploads/2025/04/Marriage-Ministry2.jpg
END:VEVENT
BEGIN:VEVENT
DTSTART;TZID=America/New_York:20250722T120000
DTEND;TZID=America/New_York:20250722T130000
DTSTAMP:20260420T053459
CREATED:20250702T223818Z
LAST-MODIFIED:20250702T223818Z
UID:24885-1753185600-1753189200@hopewellnortheast.org
SUMMARY:Noonday Bible Study
DESCRIPTION:TUESDAY \nIn person Noonday Bible Study every Tuesday at 12pm \nPlease click the link below to purchase your Tuesday Noonday Bible Study book: \nEvangelism: A Way of Life (LifeGuide Bible Studies)
URL:https://hopewellnortheast.org/event/noonday-bible-study-19/
LOCATION:Hopewell North East\, 2685 Camp Mitchell Rd\, Grayson\, GA\, 30017\, United States
ATTACH;FMTTYPE=image/jpeg:https://hopewellnortheast.org/wp-content/uploads/2025/03/Bible-Study.jpg
END:VEVENT
BEGIN:VEVENT
DTSTART;TZID=America/New_York:20250722T190000
DTEND;TZID=America/New_York:20250722T200000
DTSTAMP:20260420T053459
CREATED:20250630T014145Z
LAST-MODIFIED:20250630T014145Z
UID:24860-1753210800-1753214400@hopewellnortheast.org
SUMMARY:The Project- Young Adult Small Group Bible Study
DESCRIPTION:JOIN US FOR “THE PROJECT” IN 2025\n\n\n\n\n\n\n\n\n\n\n\n\n\n\n\nYoung Adult Small Group Bible Study \nIn person 2nd and 4th Tuesdays at 7pm \nPlease click the link below to purchase your Bible Study workbook: \nFascinating Bible Studies on Every Parable \nand Great Characters of the Bible
URL:https://hopewellnortheast.org/event/the-project-young-adult-small-group-bible-study-9/
LOCATION:Ministry House\, 320 Ozora Rd.\, Loganville\, 30052\, United States
END:VEVENT
BEGIN:VEVENT
DTSTART;TZID=America/New_York:20250723T190000
DTEND;TZID=America/New_York:20250723T200000
DTSTAMP:20260420T053459
CREATED:20250630T014406Z
LAST-MODIFIED:20250709T205822Z
UID:24864-1753297200-1753300800@hopewellnortheast.org
SUMMARY:Wednesday Night Bible Study
DESCRIPTION:Join us for bible study tonight at 7pm. \nPray Until Something Happens… \nPersist Until Something Happens… \nPresent Until Something Happens… \nPassionate Until Something Happens… \nPress Until Something Happens… \nPersevere Until Something Happens…
URL:https://hopewellnortheast.org/event/wednesday-night-bible-study-16/
LOCATION:Hopewell North East\, 2685 Camp Mitchell Rd\, Grayson\, GA\, 30017\, United States
ATTACH;FMTTYPE=image/jpeg:https://hopewellnortheast.org/wp-content/uploads/2025/06/Spritual-Reset-2025.jpg
END:VEVENT
BEGIN:VEVENT
DTSTART;TZID=America/New_York:20250723T190000
DTEND;TZID=America/New_York:20250723T200000
DTSTAMP:20260420T053459
CREATED:20250702T020832Z
LAST-MODIFIED:20250702T020832Z
UID:24872-1753297200-1753300800@hopewellnortheast.org
SUMMARY:Dissertation
DESCRIPTION:Parents please bring your youth out to join Dissertation. \nFor Youth in 5th – 12th grade. \nDissertation is a creative way for young boys to learn and recite scripture. \nDissertation meets every Wednesday at 7pm.
URL:https://hopewellnortheast.org/event/dissertation-8/
LOCATION:Hopewell North East\, 2685 Camp Mitchell Rd\, Grayson\, GA\, 30017\, United States
ATTACH;FMTTYPE=image/jpeg:https://hopewellnortheast.org/wp-content/uploads/2025/03/Dissertation.jpg
END:VEVENT
BEGIN:VEVENT
DTSTART;TZID=UTC:20250726T180000
DTEND;TZID=UTC:20250726T190000
DTSTAMP:20260420T053459
CREATED:20250724T014156Z
LAST-MODIFIED:20250724T014156Z
UID:24916-1753552800-1753556400@hopewellnortheast.org
SUMMARY:Next Generation Youth Intercessors
DESCRIPTION:Next Generation Youth Intercessors \nWill meet EVERY 4th Saturday of the month at 6:00 pm. \nPlease email the church office at info@hopewellnortheast.org \nfor the Zoom Link
URL:https://hopewellnortheast.org/event/next-generation-youth-intercessors-3/
LOCATION:Zoom
ATTACH;FMTTYPE=image/jpeg:https://hopewellnortheast.org/wp-content/uploads/2025/07/Next-Generation.jpg
END:VEVENT
BEGIN:VEVENT
DTSTART;TZID=America/New_York:20250727T081500
DTEND;TZID=America/New_York:20250727T095000
DTSTAMP:20260420T053459
CREATED:20250629T101619Z
LAST-MODIFIED:20250629T101619Z
UID:24825-1753604100-1753609800@hopewellnortheast.org
SUMMARY:GriefShare
DESCRIPTION:GriefShare is offered at Hopewell North East. \nGriefShare is a Christ-centered program that helps people apply biblical principles as they deal with the emotions and life stresses following the death of a loved one. \nClasses are held Sundays 8:15 am to 9:50 am. \nIf you would like to register for this class\, please send an email to info@hopewellnortheast.org \nto receive the registration link. \nThe cost of the program is $20 to cover your book. \nReminder \nPlease email us at \ninfo@hopewellnortheast.org \nto receive the link.
URL:https://hopewellnortheast.org/event/griefshare-20/
LOCATION:Hopewell North East\, 2685 Camp Mitchell Rd\, Grayson\, GA\, 30017\, United States
ATTACH;FMTTYPE=image/jpeg:https://hopewellnortheast.org/wp-content/uploads/2025/03/GriefShare.jpg
END:VEVENT
BEGIN:VEVENT
DTSTART;TZID=America/New_York:20250727T090000
DTEND;TZID=America/New_York:20250727T094500
DTSTAMP:20260420T053459
CREATED:20250629T102056Z
LAST-MODIFIED:20250629T102056Z
UID:24833-1753606800-1753609500@hopewellnortheast.org
SUMMARY:Sunday School (All Ages)
DESCRIPTION:Thank you for considering visiting our church!\n\n\n\n\n\n\n\n\n\n\n\n\nWe are excited to welcome you. Join us on Sundays for a memorable experience.
URL:https://hopewellnortheast.org/event/sunday-school-all-ages-21/
LOCATION:Hopewell North East\, 2685 Camp Mitchell Rd\, Grayson\, GA\, 30017\, United States
ATTACH;FMTTYPE=image/jpeg:https://hopewellnortheast.org/wp-content/uploads/2025/03/Sunday-School.jpg
END:VEVENT
BEGIN:VEVENT
DTSTART;TZID=America/New_York:20250727T100000
DTEND;TZID=America/New_York:20250727T113000
DTSTAMP:20260420T053459
CREATED:20250629T101159Z
LAST-MODIFIED:20250629T101159Z
UID:24817-1753610400-1753615800@hopewellnortheast.org
SUMMARY:Worship Service\, Nursery\, Youth Church
DESCRIPTION:Thank you for considering visiting our church!\n\n\n\n\n\n\n\n\n\n\n\n\nWe are excited to welcome you. Join us on Sundays for a memorable experience.
URL:https://hopewellnortheast.org/event/worship-service-nursery-youth-church-22/
LOCATION:Hopewell North East\, 2685 Camp Mitchell Rd\, Grayson\, GA\, 30017\, United States
ATTACH;FMTTYPE=image/jpeg:https://hopewellnortheast.org/wp-content/uploads/2025/03/Sunday-Service-scaled.jpg
END:VEVENT
BEGIN:VEVENT
DTSTART;TZID=America/New_York:20250727T180000
DTEND;TZID=America/New_York:20250727T200000
DTSTAMP:20260420T053459
CREATED:20250716T171631Z
LAST-MODIFIED:20250716T171749Z
UID:24910-1753639200-1753646400@hopewellnortheast.org
SUMMARY:Worship in the Water
DESCRIPTION:Join The Gathering of Daughters Women’s Ministry for \nWorship in the Water \nSunday\, July 27\, 2025 \n6:00 PM – 8:00 PM \nBethesda Park Aquatic Center \n225 Bethesda Church Rd\, Lawrenceville\, GA 30044 \nAdmission: $15 per person \nLadies ages 18+ \n+++++++++++++++++++++++++++++++++++++++ \nHow to Register: \n(To secure your spot\, please complete both of the following steps) \n✅ Step 1: Pay the Admission Fee \n\nClick the GIVEHUB link below\nDonation Amount: $15.00\nMemo:Your full name (or name of the person registering)\nSelect Fund: Worship in the Water\nSign in or continue as a guest\nComplete your payment method\n\n✅ Step 2: Complete the Registration Form \nSelect the link below. Make sure to submit it after payment. \nPlease note: Your registration is not complete until both the form and payment have been submitted. The admission fee is non-refundable. \nWe can’t wait to see you in the water! \n\n\n\n\n\n\n\n\n\n\n\n\n\n\n\n\n\n\n\n\n\n\n\n\n\n\nPay the Admission Fee\n\n\n\n\n\n\n\n\n\n\n\n\n\n\nComplete the Registration Form
URL:https://hopewellnortheast.org/event/worship-in-the-water/
LOCATION:GA
ATTACH;FMTTYPE=image/jpeg:https://hopewellnortheast.org/wp-content/uploads/2025/07/Worship-In-The-Water.jpg
END:VEVENT
BEGIN:VEVENT
DTSTART;TZID=America/New_York:20250729T120000
DTEND;TZID=America/New_York:20250729T130000
DTSTAMP:20260420T053459
CREATED:20250702T223903Z
LAST-MODIFIED:20250702T223903Z
UID:24886-1753790400-1753794000@hopewellnortheast.org
SUMMARY:Noonday Bible Study
DESCRIPTION:TUESDAY \nIn person Noonday Bible Study every Tuesday at 12pm \nPlease click the link below to purchase your Tuesday Noonday Bible Study book: \nEvangelism: A Way of Life (LifeGuide Bible Studies)
URL:https://hopewellnortheast.org/event/noonday-bible-study-20/
LOCATION:Hopewell North East\, 2685 Camp Mitchell Rd\, Grayson\, GA\, 30017\, United States
ATTACH;FMTTYPE=image/jpeg:https://hopewellnortheast.org/wp-content/uploads/2025/03/Bible-Study.jpg
END:VEVENT
BEGIN:VEVENT
DTSTART;TZID=America/New_York:20250729T193000
DTEND;TZID=America/New_York:20250729T210000
DTSTAMP:20260420T053459
CREATED:20250715T101851Z
LAST-MODIFIED:20250715T102150Z
UID:24906-1753817400-1753822800@hopewellnortheast.org
SUMMARY:Terrific Tuesdays in the Word "Stand Firm"
DESCRIPTION:We invite you to join Pastor Veta Blanding as she shares a powerful word at Pleasant Hill Baptist Church. \nCome and be blessed by this special time of worship and the Word! \nDate: Tuesday\, July 29\, 2025 \nLocation: Pleasant Hill Baptist Church\, 797 Moon Rd\, Lawrenceville GA 30046
URL:https://hopewellnortheast.org/event/terrific-tuesdays-in-the-word-stand-firm/
LOCATION:Pleasant Hill Baptist Church\, 797 Moon Rd\, Lawrenceville\, GA\, 30044\, United States
ATTACH;FMTTYPE=image/jpeg:https://hopewellnortheast.org/wp-content/uploads/2025/07/Terrific-Tuesdays-in-the-Word.jpg
END:VEVENT
BEGIN:VEVENT
DTSTART;TZID=America/New_York:20250730T190000
DTEND;TZID=America/New_York:20250730T200000
DTSTAMP:20260420T053459
CREATED:20250630T014433Z
LAST-MODIFIED:20250709T205901Z
UID:24865-1753902000-1753905600@hopewellnortheast.org
SUMMARY:Wednesday Night Bible Study
DESCRIPTION:Join us for bible study tonight at 7pm. \nPray Until Something Happens… \nPersist Until Something Happens… \nPresent Until Something Happens… \nPassionate Until Something Happens… \nPress Until Something Happens… \nPersevere Until Something Happens…
URL:https://hopewellnortheast.org/event/wednesday-night-bible-study-17/
LOCATION:Hopewell North East\, 2685 Camp Mitchell Rd\, Grayson\, GA\, 30017\, United States
ATTACH;FMTTYPE=image/jpeg:https://hopewellnortheast.org/wp-content/uploads/2025/06/Spritual-Reset-2025.jpg
END:VEVENT
BEGIN:VEVENT
DTSTART;TZID=America/New_York:20250730T190000
DTEND;TZID=America/New_York:20250730T200000
DTSTAMP:20260420T053459
CREATED:20250702T020958Z
LAST-MODIFIED:20250702T020958Z
UID:24874-1753902000-1753905600@hopewellnortheast.org
SUMMARY:Dissertation
DESCRIPTION:Parents please bring your youth out to join Dissertation. \nFor Youth in 5th – 12th grade. \nDissertation is a creative way for young boys to learn and recite scripture. \nDissertation meets every Wednesday at 7pm.
URL:https://hopewellnortheast.org/event/dissertation-9/
LOCATION:Hopewell North East\, 2685 Camp Mitchell Rd\, Grayson\, GA\, 30017\, United States
ATTACH;FMTTYPE=image/jpeg:https://hopewellnortheast.org/wp-content/uploads/2025/03/Dissertation.jpg
END:VEVENT
BEGIN:VEVENT
DTSTART;TZID=America/New_York:20250803T081500
DTEND;TZID=America/New_York:20250803T095000
DTSTAMP:20260420T053459
CREATED:20250729T104551Z
LAST-MODIFIED:20250729T104551Z
UID:24919-1754208900-1754214600@hopewellnortheast.org
SUMMARY:GriefShare
DESCRIPTION:GriefShare is offered at Hopewell North East. \nGriefShare is a Christ-centered program that helps people apply biblical principles as they deal with the emotions and life stresses following the death of a loved one. \nClasses are held Sundays 8:15 am to 9:50 am. \nIf you would like to register for this class\, please send an email to info@hopewellnortheast.org \nto receive the registration link. \nThe cost of the program is $20 to cover your book. \nReminder \nPlease email us at \ninfo@hopewellnortheast.org \nto receive the link.
URL:https://hopewellnortheast.org/event/griefshare-21/
LOCATION:Hopewell North East\, 2685 Camp Mitchell Rd\, Grayson\, GA\, 30017\, United States
ATTACH;FMTTYPE=image/jpeg:https://hopewellnortheast.org/wp-content/uploads/2025/03/GriefShare.jpg
END:VEVENT
BEGIN:VEVENT
DTSTART;TZID=America/New_York:20250803T090000
DTEND;TZID=America/New_York:20250803T094500
DTSTAMP:20260420T053459
CREATED:20250729T105144Z
LAST-MODIFIED:20250729T105144Z
UID:24929-1754211600-1754214300@hopewellnortheast.org
SUMMARY:Sunday School (All Ages)
DESCRIPTION:Thank you for considering visiting our church!\n\n\n\n\n\n\n\n\n\n\n\n\nWe are excited to welcome you. Join us on Sundays for a memorable experience.
URL:https://hopewellnortheast.org/event/sunday-school-all-ages-22/
LOCATION:Hopewell North East\, 2685 Camp Mitchell Rd\, Grayson\, GA\, 30017\, United States
ATTACH;FMTTYPE=image/jpeg:https://hopewellnortheast.org/wp-content/uploads/2025/03/Sunday-School.jpg
END:VEVENT
BEGIN:VEVENT
DTSTART;TZID=America/New_York:20250803T100000
DTEND;TZID=America/New_York:20250803T113000
DTSTAMP:20260420T053459
CREATED:20250729T105457Z
LAST-MODIFIED:20250729T105457Z
UID:24939-1754215200-1754220600@hopewellnortheast.org
SUMMARY:Worship Service\, Nursery\, Youth Church
DESCRIPTION:Thank you for considering visiting our church!\n\n\n\n\n\n\n\n\n\n\n\n\nWe are excited to welcome you. Join us on Sundays for a memorable experience.
URL:https://hopewellnortheast.org/event/worship-service-nursery-youth-church-23/
LOCATION:Hopewell North East\, 2685 Camp Mitchell Rd\, Grayson\, GA\, 30017\, United States
ATTACH;FMTTYPE=image/jpeg:https://hopewellnortheast.org/wp-content/uploads/2025/03/Sunday-Service-scaled.jpg
END:VEVENT
BEGIN:VEVENT
DTSTART;TZID=America/New_York:20250803T180000
DTEND;TZID=America/New_York:20250803T190000
DTSTAMP:20260420T053459
CREATED:20250729T161336Z
LAST-MODIFIED:20250729T161336Z
UID:24973-1754244000-1754247600@hopewellnortheast.org
SUMMARY:Marriage Ministry Prayer Line
DESCRIPTION:Marriage Ministry Prayer Line \nJoin us for our Marriage Ministry Prayer Line. \nIt is available for all married and engaged couples! \nPrayer Line Phone Number: (339) 207-7200 \nWhen: Normally every 1st and 3rd Sunday evening at 6:00 PM. \nGather our hearts and let’s pray unto the Lord.
URL:https://hopewellnortheast.org/event/marriage-ministry-prayer-line-11/
LOCATION:Dial-In\, United States
ATTACH;FMTTYPE=image/jpeg:https://hopewellnortheast.org/wp-content/uploads/2025/04/Marriage-Ministry2.jpg
END:VEVENT
BEGIN:VEVENT
DTSTART;TZID=America/New_York:20250805T120000
DTEND;TZID=America/New_York:20250805T130000
DTSTAMP:20260420T053459
CREATED:20250729T160238Z
LAST-MODIFIED:20250729T160238Z
UID:24959-1754395200-1754398800@hopewellnortheast.org
SUMMARY:Noonday Bible Study
DESCRIPTION:TUESDAY \nIn person Noonday Bible Study every Tuesday at 12pm \nPlease click the link below to purchase your Tuesday Noonday Bible Study book: \nEvangelism: A Way of Life (LifeGuide Bible Studies)
URL:https://hopewellnortheast.org/event/noonday-bible-study-21/
LOCATION:Hopewell North East\, 2685 Camp Mitchell Rd\, Grayson\, GA\, 30017\, United States
ATTACH;FMTTYPE=image/jpeg:https://hopewellnortheast.org/wp-content/uploads/2025/03/Bible-Study.jpg
END:VEVENT
BEGIN:VEVENT
DTSTART;TZID=America/New_York:20250806T190000
DTEND;TZID=America/New_York:20250806T200000
DTSTAMP:20260420T053459
CREATED:20250729T191205Z
LAST-MODIFIED:20250814T113529Z
UID:24980-1754506800-1754510400@hopewellnortheast.org
SUMMARY:Wednesday Night Bible Study
DESCRIPTION:Join us for Bible study tonight at 7pm. \nPray Until Something Happens… \nPersist Until Something Happens… \nPresent Until Something Happens… \nPassionate Until Something Happens… \nPress Until Something Happens… \nPersevere Until Something Happens…
URL:https://hopewellnortheast.org/event/wednesday-night-bible-study-20/
LOCATION:Hopewell North East\, 2685 Camp Mitchell Rd\, Grayson\, GA\, 30017\, United States
ATTACH;FMTTYPE=image/jpeg:https://hopewellnortheast.org/wp-content/uploads/2025/03/Bible-Study.jpg
END:VEVENT
BEGIN:VEVENT
DTSTART;TZID=America/New_York:20250810T081500
DTEND;TZID=America/New_York:20250810T095000
DTSTAMP:20260420T053459
CREATED:20250729T104639Z
LAST-MODIFIED:20250729T104639Z
UID:24921-1754813700-1754819400@hopewellnortheast.org
SUMMARY:GriefShare
DESCRIPTION:GriefShare is offered at Hopewell North East. \nGriefShare is a Christ-centered program that helps people apply biblical principles as they deal with the emotions and life stresses following the death of a loved one. \nClasses are held Sundays 8:15 am to 9:50 am. \nIf you would like to register for this class\, please send an email to info@hopewellnortheast.org \nto receive the registration link. \nThe cost of the program is $20 to cover your book. \nReminder \nPlease email us at \ninfo@hopewellnortheast.org \nto receive the link.
URL:https://hopewellnortheast.org/event/griefshare-22/
LOCATION:Hopewell North East\, 2685 Camp Mitchell Rd\, Grayson\, GA\, 30017\, United States
ATTACH;FMTTYPE=image/jpeg:https://hopewellnortheast.org/wp-content/uploads/2025/03/GriefShare.jpg
END:VEVENT
BEGIN:VEVENT
DTSTART;TZID=America/New_York:20250810T084500
DTEND;TZID=America/New_York:20250810T090000
DTSTAMP:20260420T053459
CREATED:20250730T170434Z
LAST-MODIFIED:20250730T170434Z
UID:24985-1754815500-1754816400@hopewellnortheast.org
SUMMARY:Baptism
DESCRIPTION:HNE Family\, \nHello and God Bless! \nPlease join us for baptism this Sunday at 8:45 am.
URL:https://hopewellnortheast.org/event/baptism-6/
LOCATION:Hopewell North East\, 2685 Camp Mitchell Rd\, Grayson\, GA\, 30017\, United States
ATTACH;FMTTYPE=image/jpeg:https://hopewellnortheast.org/wp-content/uploads/2025/03/Baptism.jpg
END:VEVENT
BEGIN:VEVENT
DTSTART;TZID=America/New_York:20250810T090000
DTEND;TZID=America/New_York:20250810T094500
DTSTAMP:20260420T053459
CREATED:20250729T105218Z
LAST-MODIFIED:20250729T105218Z
UID:24931-1754816400-1754819100@hopewellnortheast.org
SUMMARY:Sunday School (All Ages)
DESCRIPTION:Thank you for considering visiting our church!\n\n\n\n\n\n\n\n\n\n\n\n\nWe are excited to welcome you. Join us on Sundays for a memorable experience.
URL:https://hopewellnortheast.org/event/sunday-school-all-ages-23/
LOCATION:Hopewell North East\, 2685 Camp Mitchell Rd\, Grayson\, GA\, 30017\, United States
ATTACH;FMTTYPE=image/jpeg:https://hopewellnortheast.org/wp-content/uploads/2025/03/Sunday-School.jpg
END:VEVENT
BEGIN:VEVENT
DTSTART;TZID=America/New_York:20250810T100000
DTEND;TZID=America/New_York:20250810T113000
DTSTAMP:20260420T053459
CREATED:20250729T105530Z
LAST-MODIFIED:20250729T105530Z
UID:24941-1754820000-1754825400@hopewellnortheast.org
SUMMARY:Worship Service\, Nursery\, Youth Church
DESCRIPTION:Thank you for considering visiting our church!\n\n\n\n\n\n\n\n\n\n\n\n\nWe are excited to welcome you. Join us on Sundays for a memorable experience.
URL:https://hopewellnortheast.org/event/worship-service-nursery-youth-church-24/
LOCATION:Hopewell North East\, 2685 Camp Mitchell Rd\, Grayson\, GA\, 30017\, United States
ATTACH;FMTTYPE=image/jpeg:https://hopewellnortheast.org/wp-content/uploads/2025/03/Sunday-Service-scaled.jpg
END:VEVENT
BEGIN:VEVENT
DTSTART;TZID=America/New_York:20250812T120000
DTEND;TZID=America/New_York:20250812T130000
DTSTAMP:20260420T053459
CREATED:20250729T160341Z
LAST-MODIFIED:20250729T160341Z
UID:24960-1755000000-1755003600@hopewellnortheast.org
SUMMARY:Noonday Bible Study
DESCRIPTION:TUESDAY \nIn person Noonday Bible Study every Tuesday at 12pm \nPlease click the link below to purchase your Tuesday Noonday Bible Study book: \nEvangelism: A Way of Life (LifeGuide Bible Studies)
URL:https://hopewellnortheast.org/event/noonday-bible-study-22/
LOCATION:Hopewell North East\, 2685 Camp Mitchell Rd\, Grayson\, GA\, 30017\, United States
ATTACH;FMTTYPE=image/jpeg:https://hopewellnortheast.org/wp-content/uploads/2025/03/Bible-Study.jpg
END:VEVENT
BEGIN:VEVENT
DTSTART;TZID=America/New_York:20250812T190000
DTEND;TZID=America/New_York:20250812T200000
DTSTAMP:20260420T053459
CREATED:20250729T161017Z
LAST-MODIFIED:20250812T201828Z
UID:24969-1755025200-1755028800@hopewellnortheast.org
SUMMARY:The Project- Young Adult Small Group Bible Study
DESCRIPTION:JOIN US FOR “THE PROJECT” IN 2025\n\n\n\n\n\n\n\n\n\n\n\n\n\n\n\nYoung Adult Small Group Bible Study \nIn person 2nd and 4th Tuesdays at 7pm \nIn the Ministry House\, 320 Ozora Rd\, Loganville GA 30052 \n(NEXT TO THE CHURCH) \nPlease click the link below to purchase your Bible Study workbook: \nFascinating Bible Studies on Every Parable \nand Great Characters of the Bible
URL:https://hopewellnortheast.org/event/the-project-young-adult-small-group-bible-study-10/
LOCATION:Ministry House\, 320 Ozora Rd.\, Loganville\, 30052\, United States
ATTACH;FMTTYPE=image/jpeg:https://hopewellnortheast.org/wp-content/uploads/2025/07/The-Project.jpg
END:VEVENT
BEGIN:VEVENT
DTSTART;TZID=America/New_York:20250813T190000
DTEND;TZID=America/New_York:20250813T200000
DTSTAMP:20260420T053459
CREATED:20250729T190720Z
LAST-MODIFIED:20250814T113605Z
UID:24978-1755111600-1755115200@hopewellnortheast.org
SUMMARY:Wednesday Night Bible Study
DESCRIPTION:Join us for Bible study tonight at 7pm. \nPray Until Something Happens… \nPersist Until Something Happens… \nPresent Until Something Happens… \nPassionate Until Something Happens… \nPress Until Something Happens… \nPersevere Until Something Happens…
URL:https://hopewellnortheast.org/event/wednesday-night-bible-study-18/
LOCATION:Hopewell North East\, 2685 Camp Mitchell Rd\, Grayson\, GA\, 30017\, United States
ATTACH;FMTTYPE=image/jpeg:https://hopewellnortheast.org/wp-content/uploads/2025/03/Bible-Study.jpg
END:VEVENT
BEGIN:VEVENT
DTSTART;TZID=America/New_York:20250817T081500
DTEND;TZID=America/New_York:20250817T095000
DTSTAMP:20260420T053459
CREATED:20250729T104716Z
LAST-MODIFIED:20250729T104716Z
UID:24923-1755418500-1755424200@hopewellnortheast.org
SUMMARY:GriefShare
DESCRIPTION:GriefShare is offered at Hopewell North East. \nGriefShare is a Christ-centered program that helps people apply biblical principles as they deal with the emotions and life stresses following the death of a loved one. \nClasses are held Sundays 8:15 am to 9:50 am. \nIf you would like to register for this class\, please send an email to info@hopewellnortheast.org \nto receive the registration link. \nThe cost of the program is $20 to cover your book. \nReminder \nPlease email us at \ninfo@hopewellnortheast.org \nto receive the link.
URL:https://hopewellnortheast.org/event/griefshare-23/
LOCATION:Hopewell North East\, 2685 Camp Mitchell Rd\, Grayson\, GA\, 30017\, United States
ATTACH;FMTTYPE=image/jpeg:https://hopewellnortheast.org/wp-content/uploads/2025/03/GriefShare.jpg
END:VEVENT
BEGIN:VEVENT
DTSTART;TZID=America/New_York:20250817T090000
DTEND;TZID=America/New_York:20250817T094500
DTSTAMP:20260420T053459
CREATED:20250729T105251Z
LAST-MODIFIED:20250729T105251Z
UID:24933-1755421200-1755423900@hopewellnortheast.org
SUMMARY:Sunday School (All Ages)
DESCRIPTION:Thank you for considering visiting our church!\n\n\n\n\n\n\n\n\n\n\n\n\nWe are excited to welcome you. Join us on Sundays for a memorable experience.
URL:https://hopewellnortheast.org/event/sunday-school-all-ages-24/
LOCATION:Hopewell North East\, 2685 Camp Mitchell Rd\, Grayson\, GA\, 30017\, United States
ATTACH;FMTTYPE=image/jpeg:https://hopewellnortheast.org/wp-content/uploads/2025/03/Sunday-School.jpg
END:VEVENT
BEGIN:VEVENT
DTSTART;TZID=America/New_York:20250817T100000
DTEND;TZID=America/New_York:20250817T113000
DTSTAMP:20260420T053459
CREATED:20250729T105600Z
LAST-MODIFIED:20250729T105600Z
UID:24943-1755424800-1755430200@hopewellnortheast.org
SUMMARY:Worship Service\, Nursery\, Youth Church
DESCRIPTION:Thank you for considering visiting our church!\n\n\n\n\n\n\n\n\n\n\n\n\nWe are excited to welcome you. Join us on Sundays for a memorable experience.
URL:https://hopewellnortheast.org/event/worship-service-nursery-youth-church-25/
LOCATION:Hopewell North East\, 2685 Camp Mitchell Rd\, Grayson\, GA\, 30017\, United States
ATTACH;FMTTYPE=image/jpeg:https://hopewellnortheast.org/wp-content/uploads/2025/03/Sunday-Service-scaled.jpg
END:VEVENT
END:VCALENDAR