BEGIN:VCALENDAR
VERSION:2.0
PRODID:-//Hopewell North East - ECPv6.15.20//NONSGML v1.0//EN
CALSCALE:GREGORIAN
METHOD:PUBLISH
X-WR-CALNAME:Hopewell North East
X-ORIGINAL-URL:https://hopewellnortheast.org
X-WR-CALDESC:Events for Hopewell North East
REFRESH-INTERVAL;VALUE=DURATION:PT1H
X-Robots-Tag:noindex
X-PUBLISHED-TTL:PT1H
BEGIN:VTIMEZONE
TZID:America/New_York
BEGIN:DAYLIGHT
TZOFFSETFROM:-0500
TZOFFSETTO:-0400
TZNAME:EDT
DTSTART:20240310T070000
END:DAYLIGHT
BEGIN:STANDARD
TZOFFSETFROM:-0400
TZOFFSETTO:-0500
TZNAME:EST
DTSTART:20241103T060000
END:STANDARD
BEGIN:DAYLIGHT
TZOFFSETFROM:-0500
TZOFFSETTO:-0400
TZNAME:EDT
DTSTART:20250309T070000
END:DAYLIGHT
BEGIN:STANDARD
TZOFFSETFROM:-0400
TZOFFSETTO:-0500
TZNAME:EST
DTSTART:20251102T060000
END:STANDARD
BEGIN:DAYLIGHT
TZOFFSETFROM:-0500
TZOFFSETTO:-0400
TZNAME:EDT
DTSTART:20260308T070000
END:DAYLIGHT
BEGIN:STANDARD
TZOFFSETFROM:-0400
TZOFFSETTO:-0500
TZNAME:EST
DTSTART:20261101T060000
END:STANDARD
BEGIN:DAYLIGHT
TZOFFSETFROM:-0500
TZOFFSETTO:-0400
TZNAME:EDT
DTSTART:20270314T070000
END:DAYLIGHT
BEGIN:STANDARD
TZOFFSETFROM:-0400
TZOFFSETTO:-0500
TZNAME:EST
DTSTART:20271107T060000
END:STANDARD
END:VTIMEZONE
BEGIN:VEVENT
DTSTART;TZID=America/New_York:20260111T000000
DTEND;TZID=America/New_York:20260111T010000
DTSTAMP:20260420T013629
CREATED:20260103T151250Z
LAST-MODIFIED:20260103T152754Z
UID:25365-1768089600-1768093200@hopewellnortheast.org
SUMMARY:Hopewell North East's Annual Fast
DESCRIPTION:Join Hopewell North East in our 15th year Annual Corporate Fast \n21 Day Prayer & Fast \nStarting\, Saturday January 3 through Saturday January 24\, 2026 \nRich in 2026 HNE Fast
URL:https://hopewellnortheast.org/event/hopewell-north-easts-annual-fast-9/
LOCATION:GA
ATTACH;FMTTYPE=image/jpeg:https://hopewellnortheast.org/wp-content/uploads/2025/12/HNE-Annual-Fast-2026.jpg
END:VEVENT
BEGIN:VEVENT
DTSTART;TZID=America/New_York:20260110T000000
DTEND;TZID=America/New_York:20260110T010000
DTSTAMP:20260420T013629
CREATED:20260103T151144Z
LAST-MODIFIED:20260103T152715Z
UID:25363-1768003200-1768006800@hopewellnortheast.org
SUMMARY:Hopewell North East's Annual Fast
DESCRIPTION:Join Hopewell North East in our 15th year Annual Corporate Fast \n21 Day Prayer & Fast \nStarting\, Saturday January 3 through Saturday January 24\, 2026 \nRich in 2026 HNE Fast
URL:https://hopewellnortheast.org/event/hopewell-north-easts-annual-fast-8/
LOCATION:GA
ATTACH;FMTTYPE=image/jpeg:https://hopewellnortheast.org/wp-content/uploads/2025/12/HNE-Annual-Fast-2026.jpg
END:VEVENT
BEGIN:VEVENT
DTSTART;TZID=America/New_York:20260109T000000
DTEND;TZID=America/New_York:20260109T010000
DTSTAMP:20260420T013629
CREATED:20260103T151101Z
LAST-MODIFIED:20260103T152652Z
UID:25361-1767916800-1767920400@hopewellnortheast.org
SUMMARY:Hopewell North East's Annual Fast
DESCRIPTION:Join Hopewell North East in our 15th year Annual Corporate Fast \n21 Day Prayer & Fast \nStarting\, Saturday January 3 through Saturday January 24\, 2026 \nRich in 2026 HNE Fast
URL:https://hopewellnortheast.org/event/hopewell-north-easts-annual-fast-7/
LOCATION:GA
ATTACH;FMTTYPE=image/jpeg:https://hopewellnortheast.org/wp-content/uploads/2025/12/HNE-Annual-Fast-2026.jpg
END:VEVENT
BEGIN:VEVENT
DTSTART;TZID=America/New_York:20260108T000000
DTEND;TZID=America/New_York:20260108T010000
DTSTAMP:20260420T013629
CREATED:20260103T151020Z
LAST-MODIFIED:20260103T152625Z
UID:25359-1767830400-1767834000@hopewellnortheast.org
SUMMARY:Hopewell North East's Annual Fast
DESCRIPTION:Join Hopewell North East in our 15th year Annual Corporate Fast \n21 Day Prayer & Fast \nStarting\, Saturday January 3 through Saturday January 24\, 2026 \nRich in 2026 HNE Fast
URL:https://hopewellnortheast.org/event/hopewell-north-easts-annual-fast-6/
LOCATION:GA
ATTACH;FMTTYPE=image/jpeg:https://hopewellnortheast.org/wp-content/uploads/2025/12/HNE-Annual-Fast-2026.jpg
END:VEVENT
BEGIN:VEVENT
DTSTART;TZID=America/New_York:20260107T190000
DTEND;TZID=America/New_York:20260107T200000
DTSTAMP:20260420T013629
CREATED:20260104T230802Z
LAST-MODIFIED:20260104T230802Z
UID:25445-1767812400-1767816000@hopewellnortheast.org
SUMMARY:Dissertation
DESCRIPTION:Parents please bring your youth out to join Dissertation. \nFor Youth in 5th – 12th grade. \nDissertation is a creative way for boys and young men to learn and recite scripture. \nDissertation meets every Wednesday at 7:00 pm.
URL:https://hopewellnortheast.org/event/dissertation-25/
LOCATION:Hopewell North East\, 2685 Camp Mitchell Rd\, Grayson\, GA\, 30017\, United States
ATTACH;FMTTYPE=image/jpeg:https://hopewellnortheast.org/wp-content/uploads/2025/03/Dissertation.jpg
END:VEVENT
BEGIN:VEVENT
DTSTART;TZID=America/New_York:20260107T190000
DTEND;TZID=America/New_York:20260107T200000
DTSTAMP:20260420T013629
CREATED:20260104T230151Z
LAST-MODIFIED:20260104T230151Z
UID:25437-1767812400-1767816000@hopewellnortheast.org
SUMMARY:Wednesday Night Bible Study
DESCRIPTION:Join us for Bible study tonight at 7pm. \nPray Until Something Happens… \nPersist Until Something Happens… \nPresent Until Something Happens… \nPassionate Until Something Happens… \nPress Until Something Happens… \nPersevere Until Something Happens…
URL:https://hopewellnortheast.org/event/wednesday-night-bible-study-33/
LOCATION:Hopewell North East\, 2685 Camp Mitchell Rd\, Grayson\, GA\, 30017\, United States
END:VEVENT
BEGIN:VEVENT
DTSTART;TZID=America/New_York:20260107T000000
DTEND;TZID=America/New_York:20260107T010000
DTSTAMP:20260420T013629
CREATED:20260103T150924Z
LAST-MODIFIED:20260103T152557Z
UID:25356-1767744000-1767747600@hopewellnortheast.org
SUMMARY:Hopewell North East's Annual Fast
DESCRIPTION:Join Hopewell North East in our 15th year Annual Corporate Fast \n21 Day Prayer & Fast \nStarting\, Saturday January 3 through Saturday January 24\, 2026 \nRich in 2026 HNE Fast
URL:https://hopewellnortheast.org/event/hopewell-north-easts-annual-fast-5/
LOCATION:GA
ATTACH;FMTTYPE=image/jpeg:https://hopewellnortheast.org/wp-content/uploads/2025/12/HNE-Annual-Fast-2026.jpg
END:VEVENT
BEGIN:VEVENT
DTSTART;TZID=America/New_York:20260106T120000
DTEND;TZID=America/New_York:20260106T130000
DTSTAMP:20260420T013629
CREATED:20260104T225653Z
LAST-MODIFIED:20260104T225653Z
UID:25429-1767700800-1767704400@hopewellnortheast.org
SUMMARY:Noonday Bible Study
DESCRIPTION:TUESDAY \nIn person Noonday Bible Study every Tuesday at 12pm \nPlease click the link below to purchase your Tuesday Noonday Bible Study book: \nEvangelism: A Way of Life (LifeGuide Bible Studies)
URL:https://hopewellnortheast.org/event/noonday-bible-study-37/
LOCATION:Hopewell North East\, 2685 Camp Mitchell Rd\, Grayson\, GA\, 30017\, United States
ATTACH;FMTTYPE=image/jpeg:https://hopewellnortheast.org/wp-content/uploads/2025/08/Noonday-Bible-Study-2025.jpg
END:VEVENT
BEGIN:VEVENT
DTSTART;TZID=America/New_York:20260106T000000
DTEND;TZID=America/New_York:20260106T010000
DTSTAMP:20260420T013629
CREATED:20260103T150827Z
LAST-MODIFIED:20260103T152530Z
UID:25354-1767657600-1767661200@hopewellnortheast.org
SUMMARY:Hopewell North East's Annual Fast
DESCRIPTION:Join Hopewell North East in our 15th year Annual Corporate Fast \n21 Day Prayer & Fast \nStarting\, Saturday January 3 through Saturday January 24\, 2026 \nRich in 2026 HNE Fast
URL:https://hopewellnortheast.org/event/hopewell-north-easts-annual-fast-4/
LOCATION:GA
ATTACH;FMTTYPE=image/jpeg:https://hopewellnortheast.org/wp-content/uploads/2025/12/HNE-Annual-Fast-2026.jpg
END:VEVENT
BEGIN:VEVENT
DTSTART;TZID=America/New_York:20260105T000000
DTEND;TZID=America/New_York:20260105T010000
DTSTAMP:20260420T013629
CREATED:20260103T150723Z
LAST-MODIFIED:20260103T152456Z
UID:25352-1767571200-1767574800@hopewellnortheast.org
SUMMARY:Hopewell North East's Annual Fast
DESCRIPTION:Join Hopewell North East in our 15th year Annual Corporate Fast \n21 Day Prayer & Fast \nStarting\, Saturday January 3 through Saturday January 24\, 2026 \nRich in 2026 HNE Fast
URL:https://hopewellnortheast.org/event/hopewell-north-easts-annual-fast-3/
LOCATION:GA
ATTACH;FMTTYPE=image/jpeg:https://hopewellnortheast.org/wp-content/uploads/2025/12/HNE-Annual-Fast-2026.jpg
END:VEVENT
BEGIN:VEVENT
DTSTART;TZID=America/New_York:20260104T180000
DTEND;TZID=America/New_York:20260104T190000
DTSTAMP:20260420T013629
CREATED:20251231T193141Z
LAST-MODIFIED:20251231T193141Z
UID:25342-1767549600-1767553200@hopewellnortheast.org
SUMMARY:Marriage Ministry Prayer Line
DESCRIPTION:Marriage Ministry Prayer Line \nJoin us for our Marriage Ministry Prayer Line. \nIt is available for all married and engaged couples! \nPrayer Line Phone Number: (339) 207-7200 \nWhen: Normally every 1st and 3rd Sunday evening at 6:00 PM. \nGather our hearts and let’s pray unto the Lord.
URL:https://hopewellnortheast.org/event/marriage-ministry-prayer-line-21/
LOCATION:Dial-In\, United States
ATTACH;FMTTYPE=image/jpeg:https://hopewellnortheast.org/wp-content/uploads/2025/04/Marriage-Ministry2.jpg
END:VEVENT
BEGIN:VEVENT
DTSTART;TZID=America/New_York:20260104T100000
DTEND;TZID=America/New_York:20260104T113000
DTSTAMP:20260420T013629
CREATED:20251231T193036Z
LAST-MODIFIED:20251231T193036Z
UID:25340-1767520800-1767526200@hopewellnortheast.org
SUMMARY:Worship Service\, Nursery\, Youth Church
DESCRIPTION:Thank you for considering visiting our church!\n\n\n\n\n\n\n\n\n\n\n\n\nWe are excited to welcome you. Join us on Sundays for a memorable experience.
URL:https://hopewellnortheast.org/event/worship-service-nursery-youth-church-44/
LOCATION:Hopewell North East\, 2685 Camp Mitchell Rd\, Grayson\, GA\, 30017\, United States
ATTACH;FMTTYPE=image/jpeg:https://hopewellnortheast.org/wp-content/uploads/2025/03/Sunday-Service-scaled.jpg
END:VEVENT
BEGIN:VEVENT
DTSTART;TZID=America/New_York:20260104T090000
DTEND;TZID=America/New_York:20260104T094500
DTSTAMP:20260420T013629
CREATED:20251231T192946Z
LAST-MODIFIED:20251231T192946Z
UID:25341-1767517200-1767519900@hopewellnortheast.org
SUMMARY:Sunday School (All Ages)
DESCRIPTION:Thank you for considering visiting our church!\n\n\n\n\n\n\n\n\n\n\n\n\nWe are excited to welcome you. Join us on Sundays for a memorable experience.
URL:https://hopewellnortheast.org/event/sunday-school-all-ages-43/
LOCATION:Hopewell North East\, 2685 Camp Mitchell Rd\, Grayson\, GA\, 30017\, United States
ATTACH;FMTTYPE=image/jpeg:https://hopewellnortheast.org/wp-content/uploads/2025/03/Sunday-School.jpg
END:VEVENT
BEGIN:VEVENT
DTSTART;TZID=America/New_York:20260104T081500
DTEND;TZID=America/New_York:20260104T095000
DTSTAMP:20260420T013629
CREATED:20260104T223822Z
LAST-MODIFIED:20260104T223822Z
UID:25417-1767514500-1767520200@hopewellnortheast.org
SUMMARY:GriefShare
DESCRIPTION:GriefShare is offered at Hopewell North East. \nGriefShare is a Christ-centered program that helps people apply biblical principles as they deal with the emotions and life stresses following the death of a loved one. \nClasses are held Sundays 8:15 am to 9:50 am. \nIf you would like to register for this class\, please send an email to info@hopewellnortheast.org \nto receive the registration link. \nThe cost of the program is $20 to cover your book. \nReminder \nPlease email us at \ninfo@hopewellnortheast.org \nto receive the link.
URL:https://hopewellnortheast.org/event/griefshare-36/
LOCATION:Hopewell North East\, 2685 Camp Mitchell Rd\, Grayson\, GA\, 30017\, United States
ATTACH;FMTTYPE=image/jpeg:https://hopewellnortheast.org/wp-content/uploads/2025/03/GriefShare.jpg
END:VEVENT
BEGIN:VEVENT
DTSTART;TZID=America/New_York:20260104T000000
DTEND;TZID=America/New_York:20260104T010000
DTSTAMP:20260420T013629
CREATED:20260103T150419Z
LAST-MODIFIED:20260103T152428Z
UID:25350-1767484800-1767488400@hopewellnortheast.org
SUMMARY:Hopewell North East's Annual Fast
DESCRIPTION:Join Hopewell North East in our 15th year Annual Corporate Fast \n21 Day Prayer & Fast \nStarting\, Saturday January 3 through Saturday January 24\, 2026 \nRich in 2026 HNE Fast
URL:https://hopewellnortheast.org/event/hopewell-north-easts-annual-fast-2/
LOCATION:GA
ATTACH;FMTTYPE=image/jpeg:https://hopewellnortheast.org/wp-content/uploads/2025/12/HNE-Annual-Fast-2026.jpg
END:VEVENT
BEGIN:VEVENT
DTSTART;TZID=America/New_York:20260103T234500
DTEND;TZID=America/New_York:20260103T235900
DTSTAMP:20260420T013629
CREATED:20251208T004137Z
LAST-MODIFIED:20260104T005027Z
UID:25312-1767483900-1767484740@hopewellnortheast.org
SUMMARY:Hopewell North East's Annual Fast
DESCRIPTION:Join Hopewell North East in our 15th year Annual Corporate Fast \n21 Day Prayer & Fast \nStarting\, Saturday January 3 through Saturday January 24\, 2026 \nThe Annual Fast will kickstart at 11:45 PM on the Call-In Prayer Line \nPlease call in to the Conference Line (339) 207-7200 \nPrayer of Consecration\, Sunday\, January 4\, 2026 during the 10 AM Worship Service. \n***Everyone is asked to choose a prayer partner to pray with and stand in agreement throughout the fast.*** \nJust in case you did not receive the link\, Click the “Rich in 2026” link below to view the full fast schedule\, \nfasting guidelines\, and prayer focus. \nRich in 2026 HNE Fast
URL:https://hopewellnortheast.org/event/hopewell-north-easts-annual-fast/
LOCATION:GA
ATTACH;FMTTYPE=image/jpeg:https://hopewellnortheast.org/wp-content/uploads/2025/12/HNE-Annual-Fast-2026.jpg
END:VEVENT
BEGIN:VEVENT
DTSTART;TZID=America/New_York:20251231T180000
DTEND;TZID=America/New_York:20251231T193000
DTSTAMP:20260420T013629
CREATED:20251211T114551Z
LAST-MODIFIED:20251211T114551Z
UID:25333-1767204000-1767209400@hopewellnortheast.org
SUMMARY:Watch Night Service
DESCRIPTION:
URL:https://hopewellnortheast.org/event/watch-night-service/
LOCATION:Hopewell North East\, 2685 Camp Mitchell Rd\, Grayson\, GA\, 30017\, United States
ATTACH;FMTTYPE=image/jpeg:https://hopewellnortheast.org/wp-content/uploads/2025/12/Watch-Night-Service-2025.jpg
END:VEVENT
BEGIN:VEVENT
DTSTART;TZID=America/New_York:20251230T120000
DTEND;TZID=America/New_York:20251230T130000
DTSTAMP:20260420T013629
CREATED:20251210T224819Z
LAST-MODIFIED:20251210T224819Z
UID:25322-1767096000-1767099600@hopewellnortheast.org
SUMMARY:"NO" Noonday Bible Study Today
DESCRIPTION:TUESDAY \nIn person Noonday Bible Study every Tuesday at 12pm \nPlease click the link below to purchase your Tuesday Noonday Bible Study book: \nEvangelism: A Way of Life (LifeGuide Bible Studies)
URL:https://hopewellnortheast.org/event/no-noonday-bible-study-today-2/
LOCATION:Hopewell North East\, 2685 Camp Mitchell Rd\, Grayson\, GA\, 30017\, United States
ATTACH;FMTTYPE=image/jpeg:https://hopewellnortheast.org/wp-content/uploads/2025/08/Noonday-Bible-Study-2025.jpg
END:VEVENT
BEGIN:VEVENT
DTSTART;TZID=America/New_York:20251228T100000
DTEND;TZID=America/New_York:20251228T113000
DTSTAMP:20260420T013629
CREATED:20251126T195204Z
LAST-MODIFIED:20251126T195204Z
UID:25284-1766916000-1766921400@hopewellnortheast.org
SUMMARY:Worship Service\, Nursery\, Youth Church
DESCRIPTION:Thank you for considering visiting our church!\n\n\n\n\n\n\n\n\n\n\n\n\nWe are excited to welcome you. Join us on Sundays for a memorable experience.
URL:https://hopewellnortheast.org/event/worship-service-nursery-youth-church-43/
LOCATION:Hopewell North East\, 2685 Camp Mitchell Rd\, Grayson\, GA\, 30017\, United States
ATTACH;FMTTYPE=image/jpeg:https://hopewellnortheast.org/wp-content/uploads/2025/03/Sunday-Service-scaled.jpg
END:VEVENT
BEGIN:VEVENT
DTSTART;TZID=America/New_York:20251228T090000
DTEND;TZID=America/New_York:20251228T094500
DTSTAMP:20260420T013629
CREATED:20251126T194744Z
LAST-MODIFIED:20251126T194744Z
UID:25276-1766912400-1766915100@hopewellnortheast.org
SUMMARY:Sunday School (All Ages)
DESCRIPTION:Thank you for considering visiting our church!\n\n\n\n\n\n\n\n\n\n\n\n\nWe are excited to welcome you. Join us on Sundays for a memorable experience.
URL:https://hopewellnortheast.org/event/sunday-school-all-ages-42/
LOCATION:Hopewell North East\, 2685 Camp Mitchell Rd\, Grayson\, GA\, 30017\, United States
ATTACH;FMTTYPE=image/jpeg:https://hopewellnortheast.org/wp-content/uploads/2025/03/Sunday-School.jpg
END:VEVENT
BEGIN:VEVENT
DTSTART;TZID=America/New_York:20251224T190000
DTEND;TZID=America/New_York:20251224T200000
DTSTAMP:20260420T013629
CREATED:20251210T224631Z
LAST-MODIFIED:20251210T224631Z
UID:25319-1766602800-1766606400@hopewellnortheast.org
SUMMARY:"NO" Bible Study Tonight
DESCRIPTION:Join us for Bible study tonight at 7pm. \nPray Until Something Happens… \nPersist Until Something Happens… \nPresent Until Something Happens… \nPassionate Until Something Happens… \nPress Until Something Happens… \nPersevere Until Something Happens…
URL:https://hopewellnortheast.org/event/no-bible-study-tonight/
LOCATION:Hopewell North East\, 2685 Camp Mitchell Rd\, Grayson\, GA\, 30017\, United States
END:VEVENT
BEGIN:VEVENT
DTSTART;TZID=America/New_York:20251223T120000
DTEND;TZID=America/New_York:20251223T130000
DTSTAMP:20260420T013629
CREATED:20251210T224556Z
LAST-MODIFIED:20251210T224556Z
UID:25318-1766491200-1766494800@hopewellnortheast.org
SUMMARY:"NO" Noonday Bible Study Today
DESCRIPTION:TUESDAY \nIn person Noonday Bible Study every Tuesday at 12pm \nPlease click the link below to purchase your Tuesday Noonday Bible Study book: \nEvangelism: A Way of Life (LifeGuide Bible Studies)
URL:https://hopewellnortheast.org/event/no-noonday-bible-study-today/
LOCATION:Hopewell North East\, 2685 Camp Mitchell Rd\, Grayson\, GA\, 30017\, United States
ATTACH;FMTTYPE=image/jpeg:https://hopewellnortheast.org/wp-content/uploads/2025/08/Noonday-Bible-Study-2025.jpg
END:VEVENT
BEGIN:VEVENT
DTSTART;TZID=America/New_York:20251221T180000
DTEND;TZID=America/New_York:20251221T190000
DTSTAMP:20260420T013629
CREATED:20251217T215550Z
LAST-MODIFIED:20251217T215550Z
UID:25337-1766340000-1766343600@hopewellnortheast.org
SUMMARY:Marriage Ministry Prayer Line
DESCRIPTION:Marriage Ministry Prayer Line \nJoin us for our Marriage Ministry Prayer Line. \nIt is available for all married and engaged couples! \nPrayer Line Phone Number: (339) 207-7200 \nWhen: Normally every 1st and 3rd Sunday evening at 6:00 PM. \nGather our hearts and let’s pray unto the Lord.
URL:https://hopewellnortheast.org/event/marriage-ministry-prayer-line-20/
LOCATION:Dial-In\, United States
ATTACH;FMTTYPE=image/jpeg:https://hopewellnortheast.org/wp-content/uploads/2025/04/Marriage-Ministry2.jpg
END:VEVENT
BEGIN:VEVENT
DTSTART;TZID=America/New_York:20251221T100000
DTEND;TZID=America/New_York:20251221T113000
DTSTAMP:20260420T013629
CREATED:20251126T195130Z
LAST-MODIFIED:20251126T195130Z
UID:25283-1766311200-1766316600@hopewellnortheast.org
SUMMARY:Worship Service\, Nursery\, Youth Church
DESCRIPTION:Thank you for considering visiting our church!\n\n\n\n\n\n\n\n\n\n\n\n\nWe are excited to welcome you. Join us on Sundays for a memorable experience.
URL:https://hopewellnortheast.org/event/worship-service-nursery-youth-church-42/
LOCATION:Hopewell North East\, 2685 Camp Mitchell Rd\, Grayson\, GA\, 30017\, United States
ATTACH;FMTTYPE=image/jpeg:https://hopewellnortheast.org/wp-content/uploads/2025/03/Sunday-Service-scaled.jpg
END:VEVENT
BEGIN:VEVENT
DTSTART;TZID=America/New_York:20251221T090000
DTEND;TZID=America/New_York:20251221T094500
DTSTAMP:20260420T013629
CREATED:20251126T194701Z
LAST-MODIFIED:20251126T194701Z
UID:25275-1766307600-1766310300@hopewellnortheast.org
SUMMARY:Sunday School (All Ages)
DESCRIPTION:Thank you for considering visiting our church!\n\n\n\n\n\n\n\n\n\n\n\n\nWe are excited to welcome you. Join us on Sundays for a memorable experience.
URL:https://hopewellnortheast.org/event/sunday-school-all-ages-41/
LOCATION:Hopewell North East\, 2685 Camp Mitchell Rd\, Grayson\, GA\, 30017\, United States
ATTACH;FMTTYPE=image/jpeg:https://hopewellnortheast.org/wp-content/uploads/2025/03/Sunday-School.jpg
END:VEVENT
BEGIN:VEVENT
DTSTART;TZID=America/New_York:20251221T083000
DTEND;TZID=America/New_York:20251221T093000
DTSTAMP:20260420T013629
CREATED:20251211T014508Z
LAST-MODIFIED:20251211T115042Z
UID:25330-1766305800-1766309400@hopewellnortheast.org
SUMMARY:Fill My Cup - Gathering of Daughters Ministry Presents
DESCRIPTION:A Ladies Christmas Tea & Sunday School
URL:https://hopewellnortheast.org/event/fill-my-cup-gathering-of-daughters-ministry-presents/
LOCATION:Hopewell North East\, 2685 Camp Mitchell Rd\, Grayson\, GA\, 30017\, United States
ATTACH;FMTTYPE=image/jpeg:https://hopewellnortheast.org/wp-content/uploads/2025/12/Fill-My-Cup-2025.jpg
END:VEVENT
BEGIN:VEVENT
DTSTART;TZID=America/New_York:20251217T190000
DTEND;TZID=America/New_York:20251217T200000
DTSTAMP:20260420T013629
CREATED:20251126T230820Z
LAST-MODIFIED:20251210T224144Z
UID:25301-1765998000-1766001600@hopewellnortheast.org
SUMMARY:"NO" Bible Study Tonight
DESCRIPTION:Join us for Bible study tonight at 7pm. \nPray Until Something Happens… \nPersist Until Something Happens… \nPresent Until Something Happens… \nPassionate Until Something Happens… \nPress Until Something Happens… \nPersevere Until Something Happens…
URL:https://hopewellnortheast.org/event/wednesday-night-bible-study-36/
LOCATION:Hopewell North East\, 2685 Camp Mitchell Rd\, Grayson\, GA\, 30017\, United States
END:VEVENT
BEGIN:VEVENT
DTSTART;TZID=America/New_York:20251216T120000
DTEND;TZID=America/New_York:20251216T130000
DTSTAMP:20260420T013629
CREATED:20251126T230418Z
LAST-MODIFIED:20251212T111156Z
UID:25295-1765886400-1765890000@hopewellnortheast.org
SUMMARY:Last Noonday Bible Study of 2025
DESCRIPTION:TUESDAY \nIn person Noonday Bible Study every Tuesday at 12pm \nPlease click the link below to purchase your Tuesday Noonday Bible Study book: \nEvangelism: A Way of Life (LifeGuide Bible Studies)
URL:https://hopewellnortheast.org/event/noonday-bible-study-40/
LOCATION:Hopewell North East\, 2685 Camp Mitchell Rd\, Grayson\, GA\, 30017\, United States
ATTACH;FMTTYPE=image/jpeg:https://hopewellnortheast.org/wp-content/uploads/2025/08/Noonday-Bible-Study-2025.jpg
END:VEVENT
BEGIN:VEVENT
DTSTART;TZID=America/New_York:20251214T100000
DTEND;TZID=America/New_York:20251214T113000
DTSTAMP:20260420T013629
CREATED:20251126T195054Z
LAST-MODIFIED:20251126T195054Z
UID:25282-1765706400-1765711800@hopewellnortheast.org
SUMMARY:Worship Service\, Nursery\, Youth Church
DESCRIPTION:Thank you for considering visiting our church!\n\n\n\n\n\n\n\n\n\n\n\n\nWe are excited to welcome you. Join us on Sundays for a memorable experience.
URL:https://hopewellnortheast.org/event/worship-service-nursery-youth-church-41/
LOCATION:Hopewell North East\, 2685 Camp Mitchell Rd\, Grayson\, GA\, 30017\, United States
ATTACH;FMTTYPE=image/jpeg:https://hopewellnortheast.org/wp-content/uploads/2025/03/Sunday-Service-scaled.jpg
END:VEVENT
BEGIN:VEVENT
DTSTART;TZID=America/New_York:20251214T090000
DTEND;TZID=America/New_York:20251214T094500
DTSTAMP:20260420T013629
CREATED:20251126T194625Z
LAST-MODIFIED:20251126T194625Z
UID:25274-1765702800-1765705500@hopewellnortheast.org
SUMMARY:Sunday School (All Ages)
DESCRIPTION:Thank you for considering visiting our church!\n\n\n\n\n\n\n\n\n\n\n\n\nWe are excited to welcome you. Join us on Sundays for a memorable experience.
URL:https://hopewellnortheast.org/event/sunday-school-all-ages-40/
LOCATION:Hopewell North East\, 2685 Camp Mitchell Rd\, Grayson\, GA\, 30017\, United States
ATTACH;FMTTYPE=image/jpeg:https://hopewellnortheast.org/wp-content/uploads/2025/03/Sunday-School.jpg
END:VEVENT
END:VCALENDAR