BEGIN:VCALENDAR
VERSION:2.0
PRODID:-//Hopewell North East - ECPv6.15.20//NONSGML v1.0//EN
CALSCALE:GREGORIAN
METHOD:PUBLISH
X-ORIGINAL-URL:https://hopewellnortheast.org
X-WR-CALDESC:Events for Hopewell North East
REFRESH-INTERVAL;VALUE=DURATION:PT1H
X-Robots-Tag:noindex
X-PUBLISHED-TTL:PT1H
BEGIN:VTIMEZONE
TZID:America/New_York
BEGIN:DAYLIGHT
TZOFFSETFROM:-0500
TZOFFSETTO:-0400
TZNAME:EDT
DTSTART:20240310T070000
END:DAYLIGHT
BEGIN:STANDARD
TZOFFSETFROM:-0400
TZOFFSETTO:-0500
TZNAME:EST
DTSTART:20241103T060000
END:STANDARD
BEGIN:DAYLIGHT
TZOFFSETFROM:-0500
TZOFFSETTO:-0400
TZNAME:EDT
DTSTART:20250309T070000
END:DAYLIGHT
BEGIN:STANDARD
TZOFFSETFROM:-0400
TZOFFSETTO:-0500
TZNAME:EST
DTSTART:20251102T060000
END:STANDARD
BEGIN:DAYLIGHT
TZOFFSETFROM:-0500
TZOFFSETTO:-0400
TZNAME:EDT
DTSTART:20260308T070000
END:DAYLIGHT
BEGIN:STANDARD
TZOFFSETFROM:-0400
TZOFFSETTO:-0500
TZNAME:EST
DTSTART:20261101T060000
END:STANDARD
END:VTIMEZONE
BEGIN:VTIMEZONE
TZID:UTC
BEGIN:STANDARD
TZOFFSETFROM:+0000
TZOFFSETTO:+0000
TZNAME:UTC
DTSTART:20240101T000000
END:STANDARD
END:VTIMEZONE
BEGIN:VEVENT
DTSTART;TZID=America/New_York:20250427T090000
DTEND;TZID=America/New_York:20250427T094500
DTSTAMP:20260420T053406
CREATED:20250317T133124Z
LAST-MODIFIED:20250324T204601Z
UID:24427-1745744400-1745747100@hopewellnortheast.org
SUMMARY:Sunday School (All Ages)
DESCRIPTION:Thank you for considering visiting our church!\n\n\n\n\n\n\n\n\n\n\n\n\nWe are excited to welcome you. Join us on Sundays for a memorable experience.
URL:https://hopewellnortheast.org/event/sunday-school-all-ages-9/
LOCATION:Hopewell North East\, 2685 Camp Mitchell Rd\, Grayson\, GA\, 30017\, United States
ATTACH;FMTTYPE=image/jpeg:https://hopewellnortheast.org/wp-content/uploads/2025/03/Sunday-School.jpg
END:VEVENT
BEGIN:VEVENT
DTSTART;TZID=America/New_York:20250427T100000
DTEND;TZID=America/New_York:20250427T113000
DTSTAMP:20260420T053406
CREATED:20250317T133233Z
LAST-MODIFIED:20250317T133233Z
UID:24429-1745748000-1745753400@hopewellnortheast.org
SUMMARY:Worship Service\, Nursery\, Youth Church
DESCRIPTION:Thank you for considering visiting our church!\n\n\n\n\n\n\n\n\n\n\n\n\nWe are excited to welcome you. Join us on Sundays for a memorable experience.
URL:https://hopewellnortheast.org/event/worship-service-nursery-youth-church-9/
LOCATION:Hopewell North East\, 2685 Camp Mitchell Rd\, Grayson\, GA\, 30017\, United States
ATTACH;FMTTYPE=image/jpeg:https://hopewellnortheast.org/wp-content/uploads/2025/03/Sunday-Service-scaled.jpg
END:VEVENT
BEGIN:VEVENT
DTSTART;TZID=America/New_York:20250427T150000
DTEND;TZID=America/New_York:20250427T170000
DTSTAMP:20260420T053406
CREATED:20250426T094214Z
LAST-MODIFIED:20250426T094214Z
UID:24659-1745766000-1745773200@hopewellnortheast.org
SUMMARY:Initial Sermons
DESCRIPTION:
URL:https://hopewellnortheast.org/event/initial-sermons/
LOCATION:Hopewell North East\, 2685 Camp Mitchell Rd\, Grayson\, GA\, 30017\, United States
ATTACH;FMTTYPE=image/jpeg:https://hopewellnortheast.org/wp-content/uploads/2025/04/Initial-Sermons_04-27-25.jpg
END:VEVENT
BEGIN:VEVENT
DTSTART;TZID=America/New_York:20250427T180000
DTEND;TZID=America/New_York:20250427T190000
DTSTAMP:20260420T053406
CREATED:20250316T115333Z
LAST-MODIFIED:20250424T164222Z
UID:24397-1745776800-1745780400@hopewellnortheast.org
SUMMARY:Marriage Ministry Prayer Line
DESCRIPTION:Marriage Ministry Prayer Line \nJoin us for our Marriage Ministry Prayer Line. \nIt is available for all married and engaged couples! \nPrayer Line Phone Number: (339) 207-7200 \nWhen: Every 1st and 3rd Sunday evening at 6:00 PM \nJoin the Marriage Ministry Prayer Line on Sunday\, April 27th \nGather our hearts and let’s pray unto the Lord.
URL:https://hopewellnortheast.org/event/marriage-ministry-prayer-line-3/
LOCATION:Dial-In\, United States
ATTACH;FMTTYPE=image/jpeg:https://hopewellnortheast.org/wp-content/uploads/2025/03/Marriage-Ministry-II.jpg
END:VEVENT
BEGIN:VEVENT
DTSTART;TZID=America/New_York:20250429T120000
DTEND;TZID=America/New_York:20250429T130000
DTSTAMP:20260420T053406
CREATED:20250316T213401Z
LAST-MODIFIED:20250316T213552Z
UID:24411-1745928000-1745931600@hopewellnortheast.org
SUMMARY:Noonday Bible Study
DESCRIPTION:TUESDAY \nIn person Noonday Bible Study every Tuesday at 12pm \nPlease click the link below to purchase your Tuesday Noonday Bible Study book: \n Romans: Becoming New In Christ: 19 Studies in 2 Parts
URL:https://hopewellnortheast.org/event/noonday-bible-study-9/
LOCATION:Hopewell North East\, 2685 Camp Mitchell Rd\, Grayson\, GA\, 30017\, United States
ATTACH;FMTTYPE=image/jpeg:https://hopewellnortheast.org/wp-content/uploads/2025/03/Bible-Study.jpg
END:VEVENT
BEGIN:VEVENT
DTSTART;TZID=America/New_York:20250430T190000
DTEND;TZID=America/New_York:20250430T200000
DTSTAMP:20260420T053406
CREATED:20250324T205213Z
LAST-MODIFIED:20250402T211545Z
UID:24452-1746039600-1746043200@hopewellnortheast.org
SUMMARY:Wednesday Night Bible Study
DESCRIPTION:Join us for bible study tonight at 7pm. \nAs God showers us with blessings in April\, \nPray Until Something Happens… \nPersist Until Something Happens… \nPresent Until Something Happens… \nPassionate Until Something Happens… \nPress Until Something Happens… \nPersevere Until Something Happens…
URL:https://hopewellnortheast.org/event/wednesday-night-bible-study-5/
LOCATION:Hopewell North East\, 2685 Camp Mitchell Rd\, Grayson\, GA\, 30017\, United States
ATTACH;FMTTYPE=image/jpeg:https://hopewellnortheast.org/wp-content/uploads/2025/03/April-Showers-2025.jpg
END:VEVENT
BEGIN:VEVENT
DTSTART;TZID=America/New_York:20250501T190000
DTEND;TZID=America/New_York:20250501T200000
DTSTAMP:20260420T053406
CREATED:20250430T191643Z
LAST-MODIFIED:20250430T191643Z
UID:24702-1746126000-1746129600@hopewellnortheast.org
SUMMARY:National Day Of Prayer
DESCRIPTION:PLEASE JOIN US AS WE WALK AROUND THE CHURCH AND PRAY \nTHURSDAY\, MAY 1\, 2025 AT 7:00 PM
URL:https://hopewellnortheast.org/event/national-day-of-prayer/
LOCATION:Hopewell North East\, 2685 Camp Mitchell Rd\, Grayson\, GA\, 30017\, United States
ATTACH;FMTTYPE=image/jpeg:https://hopewellnortheast.org/wp-content/uploads/2025/04/National-Day-Of-Prayer_05-01-2025.jpg
END:VEVENT
BEGIN:VEVENT
DTSTART;TZID=America/New_York:20250503T100000
DTEND;TZID=America/New_York:20250503T120000
DTSTAMP:20260420T053406
CREATED:20250423T125808Z
LAST-MODIFIED:20250423T125808Z
UID:24647-1746266400-1746273600@hopewellnortheast.org
SUMMARY:At the Mother's Feet
DESCRIPTION:The Gathering of Daughters Women’s Ministry Presents \n*** At The Mother’s Feet *** \nSaturday\, May 3\, 2025 at 10:00 AM \n***JOIN US!!!***
URL:https://hopewellnortheast.org/event/at-the-mothers-feet/
LOCATION:Hopewell North East\, 2685 Camp Mitchell Rd\, Grayson\, GA\, 30017\, United States
ATTACH;FMTTYPE=image/jpeg:https://hopewellnortheast.org/wp-content/uploads/2025/04/At-The-Mothers-Feet_05-03-2025.jpg
END:VEVENT
BEGIN:VEVENT
DTSTART;TZID=America/New_York:20250504T081500
DTEND;TZID=America/New_York:20250504T095000
DTSTAMP:20260420T053406
CREATED:20250425T125324Z
LAST-MODIFIED:20250425T125324Z
UID:24653-1746346500-1746352200@hopewellnortheast.org
SUMMARY:GriefShare
DESCRIPTION:GriefShare is offered at Hopewell North East. \nGriefShare is a Christ-centered program that helps people apply biblical principles as they deal with the emotions and life stresses following the death of a loved one. \nClasses are held Sundays 8:15 am to 9:50 am. \nIf you would like to register for this class\, please send an email to info@hopewellnortheast.org \nto receive the registration link. \nThe cost of the program is $20 to cover your book. \nReminder \nPlease email us at \ninfo@hopewellnortheast.org \nto receive the link.
URL:https://hopewellnortheast.org/event/griefshare-8/
LOCATION:Hopewell North East\, 2685 Camp Mitchell Rd\, Grayson\, GA\, 30017\, United States
ATTACH;FMTTYPE=image/jpeg:https://hopewellnortheast.org/wp-content/uploads/2025/03/GriefShare.jpg
END:VEVENT
BEGIN:VEVENT
DTSTART;TZID=America/New_York:20250504T090000
DTEND;TZID=America/New_York:20250504T094500
DTSTAMP:20260420T053406
CREATED:20250428T130053Z
LAST-MODIFIED:20250428T130053Z
UID:24668-1746349200-1746351900@hopewellnortheast.org
SUMMARY:Sunday School (All Ages)
DESCRIPTION:Thank you for considering visiting our church!\n\n\n\n\n\n\n\n\n\n\n\n\nWe are excited to welcome you. Join us on Sundays for a memorable experience.
URL:https://hopewellnortheast.org/event/sunday-school-all-ages-10/
LOCATION:Hopewell North East\, 2685 Camp Mitchell Rd\, Grayson\, GA\, 30017\, United States
ATTACH;FMTTYPE=image/jpeg:https://hopewellnortheast.org/wp-content/uploads/2025/03/Sunday-School.jpg
END:VEVENT
BEGIN:VEVENT
DTSTART;TZID=America/New_York:20250504T100000
DTEND;TZID=America/New_York:20250504T113000
DTSTAMP:20260420T053406
CREATED:20250428T130517Z
LAST-MODIFIED:20250428T130517Z
UID:24676-1746352800-1746358200@hopewellnortheast.org
SUMMARY:Worship Service\, Nursery\, Youth Church
DESCRIPTION:Thank you for considering visiting our church!\n\n\n\n\n\n\n\n\n\n\n\n\nWe are excited to welcome you. Join us on Sundays for a memorable experience.
URL:https://hopewellnortheast.org/event/worship-service-nursery-youth-church-11/
LOCATION:Hopewell North East\, 2685 Camp Mitchell Rd\, Grayson\, GA\, 30017\, United States
ATTACH;FMTTYPE=image/jpeg:https://hopewellnortheast.org/wp-content/uploads/2025/03/Sunday-Service-scaled.jpg
END:VEVENT
BEGIN:VEVENT
DTSTART;TZID=America/New_York:20250504T180000
DTEND;TZID=America/New_York:20250504T190000
DTSTAMP:20260420T053406
CREATED:20250421T144435Z
LAST-MODIFIED:20250430T192141Z
UID:24640-1746381600-1746385200@hopewellnortheast.org
SUMMARY:Marriage Ministry Prayer Line
DESCRIPTION:Marriage Ministry Prayer Line \nJoin us for our Marriage Ministry Prayer Line. \nIt is available for all married and engaged couples! \nPrayer Line Phone Number: (339) 207-7200 \nWhen: Every 1st and 3rd Sunday evening at 6:00 PM \nGather our hearts and let’s pray unto the Lord.
URL:https://hopewellnortheast.org/event/marriage-ministry-prayer-line-5/
LOCATION:Dial-In\, United States
ATTACH;FMTTYPE=image/jpeg:https://hopewellnortheast.org/wp-content/uploads/2025/04/Marriage-Ministry2.jpg
END:VEVENT
BEGIN:VEVENT
DTSTART;TZID=America/New_York:20250506T120000
DTEND;TZID=America/New_York:20250506T130000
DTSTAMP:20260420T053406
CREATED:20250428T131319Z
LAST-MODIFIED:20250428T131319Z
UID:24684-1746532800-1746536400@hopewellnortheast.org
SUMMARY:Noonday Bible Study
DESCRIPTION:TUESDAY \nIn person Noonday Bible Study every Tuesday at 12pm \nPlease click the link below to purchase your Tuesday Noonday Bible Study book: \n Romans: Becoming New In Christ: 19 Studies in 2 Parts
URL:https://hopewellnortheast.org/event/noonday-bible-study-10/
LOCATION:Hopewell North East\, 2685 Camp Mitchell Rd\, Grayson\, GA\, 30017\, United States
ATTACH;FMTTYPE=image/jpeg:https://hopewellnortheast.org/wp-content/uploads/2025/03/Bible-Study.jpg
END:VEVENT
BEGIN:VEVENT
DTSTART;TZID=America/New_York:20250507T190000
DTEND;TZID=America/New_York:20250507T200000
DTSTAMP:20260420T053406
CREATED:20250428T131805Z
LAST-MODIFIED:20250507T173100Z
UID:24692-1746644400-1746648000@hopewellnortheast.org
SUMMARY:Wednesday Night Bible Study
DESCRIPTION:Join us for bible study tonight at 7pm. \nPray Until Something Happens… \nPersist Until Something Happens… \nPresent Until Something Happens… \nPassionate Until Something Happens… \nPress Until Something Happens… \nPersevere Until Something Happens…
URL:https://hopewellnortheast.org/event/wednesday-night-bible-study-6/
LOCATION:Hopewell North East\, 2685 Camp Mitchell Rd\, Grayson\, GA\, 30017\, United States
ATTACH;FMTTYPE=image/jpeg:https://hopewellnortheast.org/wp-content/uploads/2025/04/Wednesday-Night-Bible-Study_May-2025.jpg
END:VEVENT
BEGIN:VEVENT
DTSTART;TZID=America/New_York:20250511T081500
DTEND;TZID=America/New_York:20250511T095000
DTSTAMP:20260420T053406
CREATED:20250428T125702Z
LAST-MODIFIED:20250428T125702Z
UID:24662-1746951300-1746957000@hopewellnortheast.org
SUMMARY:GriefShare
DESCRIPTION:GriefShare is offered at Hopewell North East. \nGriefShare is a Christ-centered program that helps people apply biblical principles as they deal with the emotions and life stresses following the death of a loved one. \nClasses are held Sundays 8:15 am to 9:50 am. \nIf you would like to register for this class\, please send an email to info@hopewellnortheast.org \nto receive the registration link. \nThe cost of the program is $20 to cover your book. \nReminder \nPlease email us at \ninfo@hopewellnortheast.org \nto receive the link.
URL:https://hopewellnortheast.org/event/griefshare-9/
LOCATION:Hopewell North East\, 2685 Camp Mitchell Rd\, Grayson\, GA\, 30017\, United States
ATTACH;FMTTYPE=image/jpeg:https://hopewellnortheast.org/wp-content/uploads/2025/03/GriefShare.jpg
END:VEVENT
BEGIN:VEVENT
DTSTART;TZID=America/New_York:20250511T083000
DTEND;TZID=America/New_York:20250511T090000
DTSTAMP:20260420T053406
CREATED:20250507T173506Z
LAST-MODIFIED:20250507T173506Z
UID:24712-1746952200-1746954000@hopewellnortheast.org
SUMMARY:Baptism
DESCRIPTION:HNE Family \nHello and God Bless! \nPlease join us for baptism this Sunday\, May 11\, 2025 at 8:30 AM. \nPlease contact us: info@hopewellnortheast.org if you desire to be baptized.
URL:https://hopewellnortheast.org/event/baptism-3/
LOCATION:Hopewell North East\, 2685 Camp Mitchell Rd\, Grayson\, GA\, 30017\, United States
ATTACH;FMTTYPE=image/jpeg:https://hopewellnortheast.org/wp-content/uploads/2025/03/Baptism.jpg
END:VEVENT
BEGIN:VEVENT
DTSTART;TZID=America/New_York:20250511T090000
DTEND;TZID=America/New_York:20250511T094500
DTSTAMP:20260420T053406
CREATED:20250428T130141Z
LAST-MODIFIED:20250428T130141Z
UID:24670-1746954000-1746956700@hopewellnortheast.org
SUMMARY:Sunday School (All Ages)
DESCRIPTION:Thank you for considering visiting our church!\n\n\n\n\n\n\n\n\n\n\n\n\nWe are excited to welcome you. Join us on Sundays for a memorable experience.
URL:https://hopewellnortheast.org/event/sunday-school-all-ages-11/
LOCATION:Hopewell North East\, 2685 Camp Mitchell Rd\, Grayson\, GA\, 30017\, United States
ATTACH;FMTTYPE=image/jpeg:https://hopewellnortheast.org/wp-content/uploads/2025/03/Sunday-School.jpg
END:VEVENT
BEGIN:VEVENT
DTSTART;TZID=America/New_York:20250511T100000
DTEND;TZID=America/New_York:20250511T113000
DTSTAMP:20260420T053406
CREATED:20250428T130555Z
LAST-MODIFIED:20250507T194422Z
UID:24678-1746957600-1746963000@hopewellnortheast.org
SUMMARY:Worship Service\, Nursery\, Youth Church
DESCRIPTION:Happy Mother’s Day!\n\n\n\n\n\n\n\n\n\n\n\n\n      Celebrating All Mothers
URL:https://hopewellnortheast.org/event/worship-service-nursery-youth-church-12/
LOCATION:Hopewell North East\, 2685 Camp Mitchell Rd\, Grayson\, GA\, 30017\, United States
ATTACH;FMTTYPE=image/jpeg:https://hopewellnortheast.org/wp-content/uploads/2025/04/Mothers-Day_2025.jpg
END:VEVENT
BEGIN:VEVENT
DTSTART;TZID=America/New_York:20250513T120000
DTEND;TZID=America/New_York:20250513T130000
DTSTAMP:20260420T053406
CREATED:20250428T131444Z
LAST-MODIFIED:20250428T131444Z
UID:24686-1747137600-1747141200@hopewellnortheast.org
SUMMARY:Noonday Bible Study
DESCRIPTION:TUESDAY \nIn person Noonday Bible Study every Tuesday at 12pm \nPlease click the link below to purchase your Tuesday Noonday Bible Study book: \n Romans: Becoming New In Christ: 19 Studies in 2 Parts
URL:https://hopewellnortheast.org/event/noonday-bible-study-11/
LOCATION:Hopewell North East\, 2685 Camp Mitchell Rd\, Grayson\, GA\, 30017\, United States
ATTACH;FMTTYPE=image/jpeg:https://hopewellnortheast.org/wp-content/uploads/2025/03/Bible-Study.jpg
END:VEVENT
BEGIN:VEVENT
DTSTART;TZID=America/New_York:20250513T190000
DTEND;TZID=America/New_York:20250513T200000
DTSTAMP:20260420T053406
CREATED:20250529T010930Z
LAST-MODIFIED:20250529T010930Z
UID:24788-1747162800-1747166400@hopewellnortheast.org
SUMMARY:The Project- Young Adult Small Group Bible Study
DESCRIPTION:JOIN US FOR “THE PROJECT” IN 2025\n\n\n\n\n\n\n\n\n\n\n\n\n\n\n\nYoung Adult Small Group Bible Study \nIn person 2nd and 4th Tuesdays at 7pm \nPlease click the link below to purchase your Bible Study workbook: \nFascinating Bible Studies on Every Parable \nand Great Characters of the Bible
URL:https://hopewellnortheast.org/event/the-project-young-adult-small-group-bible-study-7/
LOCATION:Ministry House\, 320 Ozora Rd.\, Loganville\, 30052\, United States
END:VEVENT
BEGIN:VEVENT
DTSTART;TZID=America/New_York:20250514T190000
DTEND;TZID=America/New_York:20250514T200000
DTSTAMP:20260420T053406
CREATED:20250429T010619Z
LAST-MODIFIED:20250514T213243Z
UID:24696-1747249200-1747252800@hopewellnortheast.org
SUMMARY:Wednesday Night Bible Study
DESCRIPTION:Join us for bible study tonight at 7pm. \nPray Until Something Happens… \nPersist Until Something Happens… \nPresent Until Something Happens… \nPassionate Until Something Happens… \nPress Until Something Happens… \nPersevere Until Something Happens…
URL:https://hopewellnortheast.org/event/wednesday-night-bible-study-7/
LOCATION:Hopewell North East\, 2685 Camp Mitchell Rd\, Grayson\, GA\, 30017\, United States
ATTACH;FMTTYPE=image/jpeg:https://hopewellnortheast.org/wp-content/uploads/2025/04/Wednesday-Night-Bible-Study_May-2025.jpg
END:VEVENT
BEGIN:VEVENT
DTSTART;TZID=UTC:20250517T100000
DTEND;TZID=UTC:20250517T120000
DTSTAMP:20260420T053406
CREATED:20250507T172638Z
LAST-MODIFIED:20250510T034947Z
UID:24708-1747476000-1747483200@hopewellnortheast.org
SUMMARY:Masterlife Discipleship Graduation
DESCRIPTION:Please join us as we celebrate the 2025 Graduates of \nTHE MASTERLIFE DISCIPLESHIP COURSE \nSaturday\, May 17\, 2025 @ 10:00 AM \nHopewell North East Baptist Church \n2685 Camp Mitchell Rd\, Grayson GA 30017
URL:https://hopewellnortheast.org/event/masterlife-discipleship-graduation/
LOCATION:Hopewell North East\, 2685 Camp Mitchell Rd\, Grayson\, GA\, 30017\, United States
ATTACH;FMTTYPE=image/jpeg:https://hopewellnortheast.org/wp-content/uploads/2025/05/MasterLife-Graduation_2025.jpg
END:VEVENT
BEGIN:VEVENT
DTSTART;TZID=America/New_York:20250518T081500
DTEND;TZID=America/New_York:20250518T095000
DTSTAMP:20260420T053406
CREATED:20250428T125745Z
LAST-MODIFIED:20250428T125745Z
UID:24664-1747556100-1747561800@hopewellnortheast.org
SUMMARY:GriefShare
DESCRIPTION:GriefShare is offered at Hopewell North East. \nGriefShare is a Christ-centered program that helps people apply biblical principles as they deal with the emotions and life stresses following the death of a loved one. \nClasses are held Sundays 8:15 am to 9:50 am. \nIf you would like to register for this class\, please send an email to info@hopewellnortheast.org \nto receive the registration link. \nThe cost of the program is $20 to cover your book. \nReminder \nPlease email us at \ninfo@hopewellnortheast.org \nto receive the link.
URL:https://hopewellnortheast.org/event/griefshare-10/
LOCATION:Hopewell North East\, 2685 Camp Mitchell Rd\, Grayson\, GA\, 30017\, United States
ATTACH;FMTTYPE=image/jpeg:https://hopewellnortheast.org/wp-content/uploads/2025/03/GriefShare.jpg
END:VEVENT
BEGIN:VEVENT
DTSTART;TZID=America/New_York:20250518T090000
DTEND;TZID=America/New_York:20250518T094500
DTSTAMP:20260420T053406
CREATED:20250428T130245Z
LAST-MODIFIED:20250428T130245Z
UID:24672-1747558800-1747561500@hopewellnortheast.org
SUMMARY:Sunday School (All Ages)
DESCRIPTION:Thank you for considering visiting our church!\n\n\n\n\n\n\n\n\n\n\n\n\nWe are excited to welcome you. Join us on Sundays for a memorable experience.
URL:https://hopewellnortheast.org/event/sunday-school-all-ages-12/
LOCATION:Hopewell North East\, 2685 Camp Mitchell Rd\, Grayson\, GA\, 30017\, United States
ATTACH;FMTTYPE=image/jpeg:https://hopewellnortheast.org/wp-content/uploads/2025/03/Sunday-School.jpg
END:VEVENT
BEGIN:VEVENT
DTSTART;TZID=America/New_York:20250518T100000
DTEND;TZID=America/New_York:20250518T113000
DTSTAMP:20260420T053406
CREATED:20250428T130643Z
LAST-MODIFIED:20250428T130643Z
UID:24680-1747562400-1747567800@hopewellnortheast.org
SUMMARY:Worship Service\, Nursery\, Youth Church
DESCRIPTION:Thank you for considering visiting our church!\n\n\n\n\n\n\n\n\n\n\n\n\nWe are excited to welcome you. Join us on Sundays for a memorable experience.
URL:https://hopewellnortheast.org/event/worship-service-nursery-youth-church-13/
LOCATION:Hopewell North East\, 2685 Camp Mitchell Rd\, Grayson\, GA\, 30017\, United States
ATTACH;FMTTYPE=image/jpeg:https://hopewellnortheast.org/wp-content/uploads/2025/03/Sunday-Service-scaled.jpg
END:VEVENT
BEGIN:VEVENT
DTSTART;TZID=America/New_York:20250518T180000
DTEND;TZID=America/New_York:20250518T190000
DTSTAMP:20260420T053406
CREATED:20250421T144525Z
LAST-MODIFIED:20250430T192223Z
UID:24642-1747591200-1747594800@hopewellnortheast.org
SUMMARY:Marriage Ministry Prayer Line
DESCRIPTION:Marriage Ministry Prayer Line \nJoin us for our Marriage Ministry Prayer Line. \nIt is available for all married and engaged couples! \nPrayer Line Phone Number: (339) 207-7200 \nWhen: Every 1st and 3rd Sunday evening at 6:00 PM \nGather our hearts and let’s pray unto the Lord.
URL:https://hopewellnortheast.org/event/marriage-ministry-prayer-line-6/
LOCATION:Dial-In\, United States
ATTACH;FMTTYPE=image/jpeg:https://hopewellnortheast.org/wp-content/uploads/2025/04/Marriage-Ministry2.jpg
END:VEVENT
BEGIN:VEVENT
DTSTART;TZID=America/New_York:20250520T120000
DTEND;TZID=America/New_York:20250520T130000
DTSTAMP:20260420T053406
CREATED:20250428T131528Z
LAST-MODIFIED:20250428T131528Z
UID:24688-1747742400-1747746000@hopewellnortheast.org
SUMMARY:Noonday Bible Study
DESCRIPTION:TUESDAY \nIn person Noonday Bible Study every Tuesday at 12pm \nPlease click the link below to purchase your Tuesday Noonday Bible Study book: \n Romans: Becoming New In Christ: 19 Studies in 2 Parts
URL:https://hopewellnortheast.org/event/noonday-bible-study-12/
LOCATION:Hopewell North East\, 2685 Camp Mitchell Rd\, Grayson\, GA\, 30017\, United States
ATTACH;FMTTYPE=image/jpeg:https://hopewellnortheast.org/wp-content/uploads/2025/03/Bible-Study.jpg
END:VEVENT
BEGIN:VEVENT
DTSTART;TZID=America/New_York:20250521T190000
DTEND;TZID=America/New_York:20250521T200000
DTSTAMP:20260420T053406
CREATED:20250429T010707Z
LAST-MODIFIED:20250514T213335Z
UID:24698-1747854000-1747857600@hopewellnortheast.org
SUMMARY:Wednesday Night Bible Study
DESCRIPTION:Join us for bible study tonight at 7pm. \nPray Until Something Happens… \nPersist Until Something Happens… \nPresent Until Something Happens… \nPassionate Until Something Happens… \nPress Until Something Happens… \nPersevere Until Something Happens…
URL:https://hopewellnortheast.org/event/wednesday-night-bible-study-8/
LOCATION:Hopewell North East\, 2685 Camp Mitchell Rd\, Grayson\, GA\, 30017\, United States
ATTACH;FMTTYPE=image/jpeg:https://hopewellnortheast.org/wp-content/uploads/2025/04/Wednesday-Night-Bible-Study_May-2025.jpg
END:VEVENT
BEGIN:VEVENT
DTSTART;TZID=America/New_York:20250525T081500
DTEND;TZID=America/New_York:20250525T095000
DTSTAMP:20260420T053406
CREATED:20250428T125825Z
LAST-MODIFIED:20250428T125825Z
UID:24666-1748160900-1748166600@hopewellnortheast.org
SUMMARY:GriefShare
DESCRIPTION:GriefShare is offered at Hopewell North East. \nGriefShare is a Christ-centered program that helps people apply biblical principles as they deal with the emotions and life stresses following the death of a loved one. \nClasses are held Sundays 8:15 am to 9:50 am. \nIf you would like to register for this class\, please send an email to info@hopewellnortheast.org \nto receive the registration link. \nThe cost of the program is $20 to cover your book. \nReminder \nPlease email us at \ninfo@hopewellnortheast.org \nto receive the link.
URL:https://hopewellnortheast.org/event/griefshare-11/
LOCATION:Hopewell North East\, 2685 Camp Mitchell Rd\, Grayson\, GA\, 30017\, United States
ATTACH;FMTTYPE=image/jpeg:https://hopewellnortheast.org/wp-content/uploads/2025/03/GriefShare.jpg
END:VEVENT
BEGIN:VEVENT
DTSTART;TZID=America/New_York:20250525T090000
DTEND;TZID=America/New_York:20250525T094500
DTSTAMP:20260420T053406
CREATED:20250428T130331Z
LAST-MODIFIED:20250428T130331Z
UID:24674-1748163600-1748166300@hopewellnortheast.org
SUMMARY:Sunday School (All Ages)
DESCRIPTION:Thank you for considering visiting our church!\n\n\n\n\n\n\n\n\n\n\n\n\nWe are excited to welcome you. Join us on Sundays for a memorable experience.
URL:https://hopewellnortheast.org/event/sunday-school-all-ages-13/
LOCATION:Hopewell North East\, 2685 Camp Mitchell Rd\, Grayson\, GA\, 30017\, United States
ATTACH;FMTTYPE=image/jpeg:https://hopewellnortheast.org/wp-content/uploads/2025/03/Sunday-School.jpg
END:VEVENT
END:VCALENDAR